BEGIN:VCALENDAR
VERSION:2.0
PRODID:-//Poor People&#039;s Campaign - ECPv5.7.0//NONSGML v1.0//EN
CALSCALE:GREGORIAN
METHOD:PUBLISH
X-WR-CALNAME:Poor People&#039;s Campaign
X-ORIGINAL-URL:https://www.poorpeoplescampaign.org
X-WR-CALDESC:Events for Poor People&#039;s Campaign
BEGIN:VTIMEZONE
TZID:America/New_York
BEGIN:DAYLIGHT
TZOFFSETFROM:-0500
TZOFFSETTO:-0400
TZNAME:EDT
DTSTART:20200308T070000
END:DAYLIGHT
BEGIN:STANDARD
TZOFFSETFROM:-0400
TZOFFSETTO:-0500
TZNAME:EST
DTSTART:20201101T060000
END:STANDARD
END:VTIMEZONE
BEGIN:VEVENT
DTSTART;TZID=America/New_York:20200307T130000
DTEND;TZID=America/New_York:20200307T150000
DTSTAMP:20210620T154936
CREATED:20200301T080559Z
LAST-MODIFIED:20200301T080600Z
UID:980-1583586000-1583593200@www.poorpeoplescampaign.org
SUMMARY:Bangor-area PPC Public Meeting
DESCRIPTION:Our nation is going through a moral crisis\, and we are\nuniting to address it by nonviolently fighting systemic racism\, poverty\, the\nwar economy\, ecological devastation\, and the distorted moral narrative of\nreligious nationalism. We understand that all of these injustices are\ninterconnected and that we cannot address one without addressing them all.\n\nWe are a grassroots movement led by poor and impacted people in over 40 states.\nThe movement needs all of us!\n\nWe are getting ready for the Mass Assembly & Moral March on Washington with\nthe entire national campaign on June 20\, 2020.\n\nJoin us for the meeting on Saturday March 7! The church hosts a free bean lunch\nat noon that all are invited to before our meeting at 1pm. Come through the\nback of the church. We meet in the basement.\n\nContact Adam at athiesen9@gmail.com or 708-903-0651 if you have questions or\nneed a ride. Forward together!
URL:https://www.poorpeoplescampaign.org/event/bangor-area-ppc-public-meeting/
LOCATION:Hammond Street Congregational Church\, 28 High Street\, Bangor\, Maine\, 04401\, United States
END:VEVENT
END:VCALENDAR