BEGIN:VCALENDAR
VERSION:2.0
PRODID:-//Poor People&#039;s Campaign - ECPv5.7.0//NONSGML v1.0//EN
CALSCALE:GREGORIAN
METHOD:PUBLISH
X-WR-CALNAME:Poor People&#039;s Campaign
X-ORIGINAL-URL:https://www.poorpeoplescampaign.org
X-WR-CALDESC:Events for Poor People&#039;s Campaign
BEGIN:VTIMEZONE
TZID:America/Chicago
BEGIN:DAYLIGHT
TZOFFSETFROM:-0600
TZOFFSETTO:-0500
TZNAME:CDT
DTSTART:20200308T080000
END:DAYLIGHT
BEGIN:STANDARD
TZOFFSETFROM:-0500
TZOFFSETTO:-0600
TZNAME:CST
DTSTART:20201101T070000
END:STANDARD
END:VTIMEZONE
BEGIN:VEVENT
DTSTART;TZID=America/Chicago:20200222T100000
DTEND;TZID=America/Chicago:20200222T120000
DTSTAMP:20210614T065246
CREATED:20200201T234842Z
LAST-MODIFIED:20200202T001221Z
UID:691-1582365600-1582372800@www.poorpeoplescampaign.org
SUMMARY:Illinois Faith Leaders Convocation!
DESCRIPTION:Saturday February 22nd. 10am-12pm\nMt. Carmel Missionary Baptist Church\n2976-78 South Wabash Avenue \n\n\n\nWe are organizing interfaith leaders from all over Illinois to attend\n the June 20\, 2020 Mass Poor People’s Assembly and Moral March on \nWashington. \n\n\n\nJoin a broad-based\, joyful\, faith-rooted\, mass movement for voting \nrights and voter registration. We are addressing the interlocking \ninjustices of racism\, poverty\, the war economy\, environmental \ndevastation\, and the false moral narrative of religious nationalism. \n\n\n\nFind out more at https://illinoisppc.org\, to register with our statewide committee and make a reservation for 6.20.20!
URL:https://www.poorpeoplescampaign.org/event/faith-leaders-convocation/
LOCATION:Mt. Carmel Missionary Baptist Church\, 2976-78 South Wabash Avenue\, Chicago\, United States
CATEGORIES:Illinois
ATTACH;FMTTYPE=image/jpeg:https://www.poorpeoplescampaign.org/wp-content/uploads/2020/02/Faith-Leader-Meeting_2.22-1.jpg
END:VEVENT
END:VCALENDAR