BEGIN:VCALENDAR
VERSION:2.0
PRODID:-//Poor People&#039;s Campaign - ECPv5.7.0//NONSGML v1.0//EN
CALSCALE:GREGORIAN
METHOD:PUBLISH
X-WR-CALNAME:Poor People&#039;s Campaign
X-ORIGINAL-URL:https://www.poorpeoplescampaign.org
X-WR-CALDESC:Events for Poor People&#039;s Campaign
BEGIN:VTIMEZONE
TZID:America/New_York
BEGIN:DAYLIGHT
TZOFFSETFROM:-0500
TZOFFSETTO:-0400
TZNAME:EDT
DTSTART:20200308T070000
END:DAYLIGHT
BEGIN:STANDARD
TZOFFSETFROM:-0400
TZOFFSETTO:-0500
TZNAME:EST
DTSTART:20201101T060000
END:STANDARD
END:VTIMEZONE
BEGIN:VEVENT
DTSTART;TZID=America/New_York:20200418T100000
DTEND;TZID=America/New_York:20200418T120000
DTSTAMP:20210620T155218
CREATED:20200301T082842Z
LAST-MODIFIED:20200302T123639Z
UID:990-1587204000-1587211200@www.poorpeoplescampaign.org
SUMMARY:Free Sneak Preview: "We Cried Power"
DESCRIPTION:Please join us for a free sneak preview and discussion of this amazing documentary about what the movement has been up to for the last two years and where we’re headed as we continue the work of Dr. Martin Luther King Jr. to fight the interlocking injustices of racism\, poverty\, militarism\, ecological devastation\, and the distorted moral narrative of religious nationalism.
URL:https://www.poorpeoplescampaign.org/event/free-sneak-preview-we-cried-power-6/
LOCATION:Railroad Square Cinema\, 17 Railroad Square\, Waterville\, Maine\, 04901\, United States
CATEGORIES:Maine
END:VEVENT
END:VCALENDAR