BEGIN:VCALENDAR
VERSION:2.0
PRODID:-//Poor People&#039;s Campaign - ECPv5.7.0//NONSGML v1.0//EN
CALSCALE:GREGORIAN
METHOD:PUBLISH
X-WR-CALNAME:Poor People&#039;s Campaign
X-ORIGINAL-URL:https://www.poorpeoplescampaign.org
X-WR-CALDESC:Events for Poor People&#039;s Campaign
BEGIN:VTIMEZONE
TZID:America/Chicago
BEGIN:DAYLIGHT
TZOFFSETFROM:-0600
TZOFFSETTO:-0500
TZNAME:CDT
DTSTART:20200308T080000
END:DAYLIGHT
BEGIN:STANDARD
TZOFFSETFROM:-0500
TZOFFSETTO:-0600
TZNAME:CST
DTSTART:20201101T070000
END:STANDARD
END:VTIMEZONE
BEGIN:VEVENT
DTSTART;TZID=America/Chicago:20200224T183000
DTEND;TZID=America/Chicago:20200224T200000
DTSTAMP:20210614T065159
CREATED:20200131T233739Z
LAST-MODIFIED:20200206T163432Z
UID:689-1582569000-1582574400@www.poorpeoplescampaign.org
SUMMARY:Meetup at the North Regional Library
DESCRIPTION:Help set the focus and priorities for our work in Minnesota!  Come \nshare your views about our most pressing issues as we put together our \nwork plan for the year. Discuss\, think through our area’s strengths and \nweakness\, and join us to bring the moral revival to Minnesota. \n\n\n\nPlus\n find out how to join our delegation to the Mass Poor People’s Assembly \nand Moral March on Washington on June 20\, 2020! You can even join \nMinnesota’s choir\, if you’re so inclined!
URL:https://www.poorpeoplescampaign.org/event/meetup-at-the-north-regional-library/
LOCATION:North Regional Library\, 1315 Lowry Ave N\, Minneapolis\, Minnesota\, 55411\, United States
CATEGORIES:Minnesota
ATTACH;FMTTYPE=image/jpeg:https://www.poorpeoplescampaign.org/wp-content/uploads/2020/01/MORE-Logo-Resized-scaled.jpg
END:VEVENT
END:VCALENDAR