BEGIN:VCALENDAR
VERSION:2.0
PRODID:-//Poor People&#039;s Campaign - ECPv5.7.1//NONSGML v1.0//EN
CALSCALE:GREGORIAN
METHOD:PUBLISH
X-WR-CALNAME:Poor People&#039;s Campaign
X-ORIGINAL-URL:https://www.poorpeoplescampaign.org
X-WR-CALDESC:Events for Poor People&#039;s Campaign
BEGIN:VTIMEZONE
TZID:America/New_York
BEGIN:DAYLIGHT
TZOFFSETFROM:-0500
TZOFFSETTO:-0400
TZNAME:EDT
DTSTART:20200308T070000
END:DAYLIGHT
BEGIN:STANDARD
TZOFFSETFROM:-0400
TZOFFSETTO:-0500
TZNAME:EST
DTSTART:20201101T060000
END:STANDARD
END:VTIMEZONE
BEGIN:VEVENT
DTSTART;TZID=America/New_York:20200921T153000
DTEND;TZID=America/New_York:20200921T163000
DTSTAMP:20210707T205517
CREATED:20200919T172258Z
LAST-MODIFIED:20200919T174140Z
UID:2595-1600702200-1600705800@www.poorpeoplescampaign.org
SUMMARY:Moral Monday Car Caravan in DC
DESCRIPTION:On Monday\, September 21\, from 3:30 to 4:30 pm\, we in DC will stand in solidarity with our sisters and brothers in Kentucky by holding a nonviolent car caravan action in front of Mitch McConnell’s home in DC.  \n\n\n\nAt the same time in Kentucky\, our Poor People’s Campaign sisters and brothers will hold actions in front of all six of his state offices. \n\n\n\nRegister here to join a caravan or to join online. \n\n\n\nWe have an urgent need for volunteers to serve as marshals for the action. The job of marshals is to keep people safe. There will be formal marshal training over the weekend\, most likely on Saturday. Please sign up here if you are interested in serving as a marshal and we will provide you with more information about the training and marshal duties. On Monday\, marshals will need to report to a location (to be announced) at 3:00 pm. \n\n\n\nCOVID-19 safety is our primary concern. These are our guidelines: \n\n\n\nStay Home if you are feeling sick!Wear a mask or face covering at all times unless drinking or eating.Bring hand sanitizerAvoid contact with people while walkingStay in your vehicle as much as possibleAvoid touching eyes\, nose\, and mouth with your handsCover your cough or sneeze with a tissue\, then throw the tissue in the trashClean and disinfect frequently touched objects and surfacesStay Home if you are feeling sick!
URL:https://www.poorpeoplescampaign.org/event/moral-monday-car-caravan-in-dc/
CATEGORIES:Washington DC
ATTACH;FMTTYPE=image/jpeg:https://www.poorpeoplescampaign.org/wp-content/uploads/2020/09/092120-Caravan.jpg
END:VEVENT
END:VCALENDAR