BEGIN:VCALENDAR
VERSION:2.0
PRODID:-//Poor People&#039;s Campaign - ECPv5.7.0//NONSGML v1.0//EN
CALSCALE:GREGORIAN
METHOD:PUBLISH
X-WR-CALNAME:Poor People&#039;s Campaign
X-ORIGINAL-URL:https://www.poorpeoplescampaign.org
X-WR-CALDESC:Events for Poor People&#039;s Campaign
BEGIN:VTIMEZONE
TZID:America/Chicago
BEGIN:DAYLIGHT
TZOFFSETFROM:-0600
TZOFFSETTO:-0500
TZNAME:CDT
DTSTART:20200308T080000
END:DAYLIGHT
BEGIN:STANDARD
TZOFFSETFROM:-0500
TZOFFSETTO:-0600
TZNAME:CST
DTSTART:20201101T070000
END:STANDARD
END:VTIMEZONE
BEGIN:VEVENT
DTSTART;TZID=America/Chicago:20200323T173000
DTEND;TZID=America/Chicago:20200323T190000
DTSTAMP:20210614T065528
CREATED:20200206T131349Z
LAST-MODIFIED:20200314T124733Z
UID:1121-1584984600-1584990000@www.poorpeoplescampaign.org
SUMMARY:**POSTPONED**  Evanston IL--Pizza and Phone Banking!
DESCRIPTION:We will reschedule this when we can. \n\n\n\nHelp\n us get the word out about the Mass Poor People’s Assembly and March on \nWashington\, and other upcoming PPC events and actions.  \n\n\n\nEnjoy pizza and get to know the folks in our local cluster.
URL:https://www.poorpeoplescampaign.org/event/pizza-and-phone-banking-2020-03-23/
LOCATION:Reba Place Church\, 620 Madison\, Evanston\, United States
CATEGORIES:Illinois
END:VEVENT
END:VCALENDAR