BEGIN:VCALENDAR
VERSION:2.0
PRODID:-//Poor People&#039;s Campaign - ECPv5.7.0//NONSGML v1.0//EN
CALSCALE:GREGORIAN
METHOD:PUBLISH
X-WR-CALNAME:Poor People&#039;s Campaign
X-ORIGINAL-URL:https://www.poorpeoplescampaign.org
X-WR-CALDESC:Events for Poor People&#039;s Campaign
BEGIN:VTIMEZONE
TZID:America/New_York
BEGIN:DAYLIGHT
TZOFFSETFROM:-0500
TZOFFSETTO:-0400
TZNAME:EDT
DTSTART:20200308T070000
END:DAYLIGHT
BEGIN:STANDARD
TZOFFSETFROM:-0400
TZOFFSETTO:-0500
TZNAME:EST
DTSTART:20201101T060000
END:STANDARD
END:VTIMEZONE
BEGIN:VEVENT
DTSTART;TZID=America/New_York:20200111T080000
DTEND;TZID=America/New_York:20200113T200000
DTSTAMP:20210614T055621
CREATED:20191211T175705Z
LAST-MODIFIED:20200111T203706Z
UID:413-1578729600-1578945600@www.poorpeoplescampaign.org
SUMMARY:Charleston\, SC Moral Monday | We Must Do MORE Tour
DESCRIPTION:Join the Poor People’s Campaign: A National Call for Moral Revival in Charleston\, SC for the seventh stop of the We Must Do M.O.R.E. National Tour as we Mobilize\, Organize\, Register and Educate. \n\n\n\nRSVP Here: bit.ly/SCMOREtourSign-up to a Volunteer: bit.ly/SCMOREvolunteer \n\n\n\nThe tour stop in South Carolina will culminate with a Moral Monday March and Mass Meeting on Monday\, January 13\, 2020. This will follow a weekend of events in Charleston including:  \n\n\n\nA community site visit to shine light on the struggles and stories of impacted people from the community and provide a platform for them to share both the conditions they are facing and the solutions they believe in. \n\n\n\nA Community Canvass to register people for the movement that votes.  \n\n\n\nAt the Moral Monday\, we will hear from people directly impacted  by systemic racism\, poverty\, ecological devastation\, militarism and the war economy\, and the corrupt moral narrative. We will also hear from Rev. Barber and Rev. Theoharis\, Co-Chairs of the Poor People’s Campaign: A National Call for Moral Revival.  \n\n\n\nThe Poor People’s Campaign: A National Call for Moral Revival is organizing a 25-state We Must Do MORE national tour from September 2019 to May 2020. This tour will lead into the Mass Poor People’s Assembly & Moral March on Washington\, where thousands of poor people and moral agents will gather at the nation’s capitol on June 20\, 2020 to demonstrate their power.  \n\n\n\nWe will demand the implementation of our Moral Agenda and call all people of conscience to engage in deeply moral civic engagement and voting that cares about poor and low-wealth people\, the sick\, immigrants\, workers\, the environment\, people with disabilities\, first nations\, the LGBTQ community\, and peace over war.
URL:https://www.poorpeoplescampaign.org/event/charleston-sc-moral-monday-we-must-do-more-tour/
CATEGORIES:National Events,South Carolina
ATTACH;FMTTYPE=image/jpeg:https://www.poorpeoplescampaign.org/wp-content/uploads/2019/12/SCMOREUpdated.jpeg
END:VEVENT
END:VCALENDAR