BEGIN:VCALENDAR
VERSION:2.0
PRODID:-//Poor People&#039;s Campaign - ECPv5.7.0//NONSGML v1.0//EN
CALSCALE:GREGORIAN
METHOD:PUBLISH
X-WR-CALNAME:Poor People&#039;s Campaign
X-ORIGINAL-URL:https://www.poorpeoplescampaign.org
X-WR-CALDESC:Events for Poor People&#039;s Campaign
BEGIN:VTIMEZONE
TZID:America/New_York
BEGIN:DAYLIGHT
TZOFFSETFROM:-0500
TZOFFSETTO:-0400
TZNAME:EDT
DTSTART:20200308T070000
END:DAYLIGHT
BEGIN:STANDARD
TZOFFSETFROM:-0400
TZOFFSETTO:-0500
TZNAME:EST
DTSTART:20201101T060000
END:STANDARD
TZID:America/Chicago
BEGIN:DAYLIGHT
TZOFFSETFROM:-0600
TZOFFSETTO:-0500
TZNAME:CDT
DTSTART:20200308T080000
END:DAYLIGHT
BEGIN:STANDARD
TZOFFSETFROM:-0500
TZOFFSETTO:-0600
TZNAME:CST
DTSTART:20201101T070000
END:STANDARD
END:VTIMEZONE
BEGIN:VEVENT
DTSTART;TZID=America/New_York:20200114T100000
DTEND;TZID=America/New_York:20200114T160000
DTSTAMP:20210612T123527
CREATED:20200110T193512Z
LAST-MODIFIED:20200110T193512Z
UID:521-1578996000-1579017600@www.poorpeoplescampaign.org
SUMMARY:NYS Healthcare & Housing Day of Action – People's Needs\, Not Corporate Greed!
DESCRIPTION:WHAT: Healthcare and Housing Day of Action: People’s Needs\, Not Corporate Greed! \n\n\n\nWHEN: Tuesday\, Jan. 14\, 10am – 4pm \n\n\n\nWHERE: Meet at the Madison Ave. end of the Empire State Concourse at 10am. Rally in War Room of the NY State Capitol at 11:30am. \n\n\n\nTRANSPORTATION: Bus transportation is available from NYC\, Buffalo\, Rochester and Syracuse! To register for the NYC bus\, go to bit.ly/Jan14Bus. To reserve a seat from Buffalo\, Rochester or Syracuse go to rally.co/Peoples-Needs-Not-Corporate-Greed/ \n\n\n\nSeats are sliding-scale. Please pay what you can! For a half-price ticket\, use the code NOGREED50. For 95% off (approximately $3 per ticket)\, use the code NOGREED95. If you would like to book a seat but don’t have access to PayPal or a debit/credit card\, or if you have any other questions\, email newyork@poorpeoplescampaign.org.\n\n\n\nWe will help to arrange carpooling from other locations. \n\n\n\nWHY: The New York State Poor People’s Campaign will kick off this year’s legislative session with a mass action in Albany to raise our voices and bring our demands to elected leaders. \n\n\n\nLast year\, organized tenants across New York State won a pivotal victory defending and expanding their rights. Corporate greed and lobbying dollars were unable to stop policy which helped the many instead of the wealthy few. However\, we have so much more to do in order to ensure that every New Yorker can access human rights like housing and healthcare! \n\n\n\nRight now: \n\n\n\n50.5% of New Yorkers are poor or low incomeOver 1 million New Yorkers are uninsured\, and millions more have plans that would bankrupt them when faced with a medical emergencyOver half of low income tenants are currently paying more than 50% of their income in rent.On any given night\, over 90\,000 New Yorkers are homeless.\n\n\n\nJoin the NYS Poor People’s Campaign on January 14th – the first full week of legislative session – to demand that our elected officials prioritize people over profits in 2020. \n\n\n\nWe cannot accept the false narrative that there are no resources to provide New Yorkers with healthcare and housing. Our state has immense wealth concentrated in too few hands – and our elected officials have failed to take any meaningful steps to fix New York’s inequality\, which is the worst in the nation. We know the truth is that NYS has favored billionaires at the expense of the people of this state\, but it doesn’t have to be this way. We must insist that our elected officials fight poverty\, not the poor\, by passing legislation that guarantees housing and healthcare for all!   \n\n\n\nWe need to #PassNYHealth\, #GoodCause\, and #HSS so we can have #MedicareForAll and a #NYHomesGuarantee! \n\n\n\nThe Poor People’s Campaign: A National Call for Moral Revival is bringing together people across the country who are organizing to build a broad and deep national moral movement — led by the poor\, impacted\, clergy and moral agents and reflecting the great moral teachings — to unite our country from the bottom up.Learn more about the campaign here: nysppc.org
URL:https://www.poorpeoplescampaign.org/event/nys-healthcare-housing-day-of-action-peoples-needs-not-corporate-greed/
LOCATION:New York State Capitol\, Madison Ave. end of the Empire State Concourse\, Albany\, New York\, 12210\, United States
CATEGORIES:New York
ATTACH;FMTTYPE=image/jpeg:https://www.poorpeoplescampaign.org/wp-content/uploads/2020/01/web_PPC_NewYork.jpg
END:VEVENT
BEGIN:VEVENT
DTSTART;TZID=America/Chicago:20200114T170000
DTEND;TZID=America/Chicago:20200114T180000
DTSTAMP:20210612T123527
CREATED:20200111T201608Z
LAST-MODIFIED:20200111T201909Z
UID:524-1579021200-1579024800@www.poorpeoplescampaign.org
SUMMARY:Des Moines\, IA | Moral March on Debate
DESCRIPTION:The Poor People’s Campaign Demands a Full Presidential Debate on Poverty: Saving the Heart and Soul of Our Democracy \n\n\n\nAlthough the Poor People’s Campaign issued a challenge to candidates on both sides of the aisle and 9 presidential candidates vowed to push for a debate on poverty at the Poor People’s Moral Action Congress\, it’s been 6 months\, 20 hours of debates in 2019\, and 28 debates since 2016 – there still remain 140 million poor and low wealth people in this country and no debate nor serious political discussion or action on poverty. \n\n\n\nOne week from today\, come join the Poor People’s Campaign as we challenge candidates and organizers to make good on their promise to hold a minimum of 1 primetime televised debate in both the primary and the general elections on poverty and the interlocking issues of systemic racism\, ecological devastation\, militarism and the war economy\, and the distorted moral narrative of Christian Nationalism. We can’t allow another debate to go by or election season to continue without putting the issues facing the American people at the center.  \n\n\n\nMeet at 1st Christian Church – Des Moines at 4:30pm Moral March on Debate at 4:45pm Press Conference at 5:00pm \n\n\n\nHear from poor people\, moral leaders\, and clergy from Iowa and across the country about how the poor are the most impacted by climate chaos\, war\, the lack of health care\, & low wage jobs. And join a fusion movement rising up to save the soul of our democracy and this world.  \n\n\n\nOur deep love of the 140 million people poor or low-wealth people (43% of Americans) in this county\, with 1.1 million poor and low-wealth people living in Iowa\, calls the Poor People’s Campaign to action. We will not let another presidential debate take place without furthering our call for a full debate on poverty!  \n\n\n\nRSVP for this event! \n\n\n\nShare this event on Facebook!
URL:https://www.poorpeoplescampaign.org/event/moral-march-on-debate/
LOCATION:First Christian Church Des Moines\, 2500 University Ave\, Des Moines\, Iowa\, 50311\, United States
CATEGORIES:Iowa,National Events
ATTACH;FMTTYPE=image/jpeg:https://www.poorpeoplescampaign.org/wp-content/uploads/2019/12/home-links-bg.jpg
END:VEVENT
END:VCALENDAR