BEGIN:VCALENDAR
VERSION:2.0
PRODID:-//Poor People&#039;s Campaign - ECPv5.7.0//NONSGML v1.0//EN
CALSCALE:GREGORIAN
METHOD:PUBLISH
X-WR-CALNAME:Poor People&#039;s Campaign
X-ORIGINAL-URL:https://www.poorpeoplescampaign.org
X-WR-CALDESC:Events for Poor People&#039;s Campaign
BEGIN:VTIMEZONE
TZID:America/Los_Angeles
BEGIN:DAYLIGHT
TZOFFSETFROM:-0800
TZOFFSETTO:-0700
TZNAME:PDT
DTSTART:20200308T100000
END:DAYLIGHT
BEGIN:STANDARD
TZOFFSETFROM:-0700
TZOFFSETTO:-0800
TZNAME:PST
DTSTART:20201101T090000
END:STANDARD
TZID:America/New_York
BEGIN:DAYLIGHT
TZOFFSETFROM:-0500
TZOFFSETTO:-0400
TZNAME:EDT
DTSTART:20200308T070000
END:DAYLIGHT
BEGIN:STANDARD
TZOFFSETFROM:-0400
TZOFFSETTO:-0500
TZNAME:EST
DTSTART:20201101T060000
END:STANDARD
END:VTIMEZONE
BEGIN:VEVENT
DTSTART;TZID=America/Los_Angeles:20200126T150000
DTEND;TZID=America/Los_Angeles:20200126T170000
DTSTAMP:20210614T055648
CREATED:20200121T020757Z
LAST-MODIFIED:20200124T205444Z
UID:578-1580050800-1580058000@www.poorpeoplescampaign.org
SUMMARY:Bay Area Moral Budget Reading Group
DESCRIPTION:What will it take to truly address the systemic racism\, poverty\, ecological devastation\, militarism\, and war economy plaguing our country today? The answer is presented in the Poor People’s Campaign Moral Budget\, which lays out the policies and investments to address the widespread and systemic injustices we face. \n\n\n\nWe invite you to come together with other supporters of the Poor People’s Campaign to learn more about these solutions through our Moral Budget Reading Group. This will be a space for us to develop our collective understanding of the policies we’re working towards and how they will affect the lives of the people in our communities. \n\n\n\nThe next meeting will happen on Sunday\, January 26th from 3-5pm. We’ll be discussing the pages 51 through 72\, “Investments in an Equitable Economy” and “Investments in Life and Health.” \n\n\n\nYou can view the Moral Budget on your computer here: http://ppcbayarea.org/moral-budget. If you’d like to purchase a physical copy for $10\, please email info@ppcbayarea.org and let us know. \n\n\n\nWe hope you’ll join us to be part of this reading group. Forward together\, not one step back!
URL:https://www.poorpeoplescampaign.org/event/bay-area-moral-budget-reading-group/
LOCATION:Omni Commons\, 4799 Shattuck Ave\, Oakland\, California\, 94609\, United States
CATEGORIES:California
END:VEVENT
BEGIN:VEVENT
DTSTART;TZID=America/New_York:20200126T180000
DTEND;TZID=America/New_York:20200126T200000
DTSTAMP:20210614T055648
CREATED:20200127T122524Z
LAST-MODIFIED:20200211T121639Z
UID:631-1580061600-1580068800@www.poorpeoplescampaign.org
SUMMARY:(OH) We Cried Power - A documentary about the Poor People's Campaign
DESCRIPTION:We Cried PowerA documentary about the Poor People’s Campaign \n\n\n\nOnline Screening (45 Minutes) Followed By Panel DiscussionSunday January 26\, 2020 at 6PM Eastern Time 	Viewers go to: https://www.facebook.com/TheWeCampaign \n\n\n\nPlease share with your Friends and ColleaguesAsk them to Like the page so they can be notified when this and other broadcasts are starting \n\n\n\nAbout the Film We Cried Power tells the story of a bold new social movement to end poverty in the United States\, led by Rev. Dr. William J. Barber and Rev. Dr. Liz Theoharis. 140 million people in the United States are poor or low-wealth. In the wealthiest society in human history\, nearly half of the population lives in poverty or is struggling to make ends meet and cannot afford a $400 emergency.  \n\n\n\nInspired by Martin Luther King Jr.’s 1968 Poor People’s Campaign -Reverend Barber\, a pastor from a small town in North Carolina\, joined other clergies to launch a national movement led by poor and working people. For We Cried Power during the Summer of 2018\, thousands of people – Black\, white\, Latino\, First Nation\, Asian\, Jewish\, Muslim and Christian\, people not of faith\, gay\, straight\, young and old – work together\, picking up the baton from the freedom fighters of the Civil Rights Movement.	The documentary We Cried Power is an intimate account of a “season of resistance\,” told through his eyes and the mothers\, veterans\, preachers\, and students who are the voices and founding members of this new “fusion” movement. The film bears witness to the profound process by which those without power decide not to accept their powerlessness. Instead\, they claim – through protest\, dance\, song\, and poems\, through testimony and tears – their birthright: to live decent lives in the United States of America.Trailer https://vimeo.com/383590763/b39d6b011f
URL:https://www.poorpeoplescampaign.org/event/we-cried-power-a-documentary-about-the-poor-peoples-campaign/
CATEGORIES:Ohio
END:VEVENT
END:VCALENDAR