BEGIN:VCALENDAR
VERSION:2.0
PRODID:-//Poor People&#039;s Campaign - ECPv5.7.0//NONSGML v1.0//EN
CALSCALE:GREGORIAN
METHOD:PUBLISH
X-WR-CALNAME:Poor People&#039;s Campaign
X-ORIGINAL-URL:https://www.poorpeoplescampaign.org
X-WR-CALDESC:Events for Poor People&#039;s Campaign
BEGIN:VTIMEZONE
TZID:America/Los_Angeles
BEGIN:DAYLIGHT
TZOFFSETFROM:-0800
TZOFFSETTO:-0700
TZNAME:PDT
DTSTART:20200308T100000
END:DAYLIGHT
BEGIN:STANDARD
TZOFFSETFROM:-0700
TZOFFSETTO:-0800
TZNAME:PST
DTSTART:20201101T090000
END:STANDARD
END:VTIMEZONE
BEGIN:VEVENT
DTSTART;TZID=America/Los_Angeles:20200208T150000
DTEND;TZID=America/Los_Angeles:20200208T170000
DTSTAMP:20210625T021332
CREATED:20200203T021723Z
LAST-MODIFIED:20200203T021723Z
UID:697-1581174000-1581181200@www.poorpeoplescampaign.org
SUMMARY:Bay Area Steering Committee Meeting
DESCRIPTION:Today\, the Poor People’s Campaign: A National Call for Moral Revival has picked up the unfinished work of Dr. Martin Luther King Jr’s 1968 Poor People’s Campaign. We are creating a new fusion politics to change the moral narrative of the country. \n\n\n\nFrom Alaska to Arkansas\, the Bronx to the border\, people are coming together to confront the interlocking evils of systemic racism\, poverty\, ecological devastation\, militarism and the war economy\, and the distorted moral narrative of religious nationalism. We understand that as a nation we are at a critical juncture — that we need a movement that will shift the moral narrative\, impact policies and elections at every level of government\, and build lasting power for poor and impacted people. \n\n\n\nPlease join us and the movement as we build towards a Mass Assembly and March on Washington\, June 20\, 2020. We welcome your participation at the next Steering Committee meeting of the Poor People’s Campaign Bay Area Supporters\, Saturday\, February 8th\, 3:00 pm at San Francisco’s historic Redstone Building.
URL:https://www.poorpeoplescampaign.org/event/bay-area-steering-committee-meeting/
LOCATION:Redstone Building\, 2940 16th Street\, San Francisco\, California\, 94103\, United States
CATEGORIES:California
END:VEVENT
END:VCALENDAR