BEGIN:VCALENDAR
VERSION:2.0
PRODID:-//Poor People&#039;s Campaign - ECPv5.7.0//NONSGML v1.0//EN
CALSCALE:GREGORIAN
METHOD:PUBLISH
X-WR-CALNAME:Poor People&#039;s Campaign
X-ORIGINAL-URL:https://www.poorpeoplescampaign.org
X-WR-CALDESC:Events for Poor People&#039;s Campaign
BEGIN:VTIMEZONE
TZID:America/New_York
BEGIN:DAYLIGHT
TZOFFSETFROM:-0500
TZOFFSETTO:-0400
TZNAME:EDT
DTSTART:20200308T070000
END:DAYLIGHT
BEGIN:STANDARD
TZOFFSETFROM:-0400
TZOFFSETTO:-0500
TZNAME:EST
DTSTART:20201101T060000
END:STANDARD
END:VTIMEZONE
BEGIN:VEVENT
DTSTART;TZID=America/New_York:20200228T080000
DTEND;TZID=America/New_York:20200302T200000
DTSTAMP:20210614T055724
CREATED:20191106T152855Z
LAST-MODIFIED:20200224T221829Z
UID:261-1582876800-1583179200@www.poorpeoplescampaign.org
SUMMARY:Alabama Moral Monday | We Must Do MORE Tour
DESCRIPTION:Join the Poor People’s Campaign: A National Call for Moral Revival in Mobile\, Selma\, and Birmingham for the 12th stop of the We Must Do M.O.R.E. National Tour as we Mobilize\, Organize\, Register and Educate. \nThe tour stop in Alabama will include a Mass Meeting in Mobile on Friday\, Feb. 28\, a ‘We Cried Power’ Film Screening\, Community Canvassing\, and the 55th Anniversary of Bloody Sunday in Selma on Saturday\, Feb. 29 and Sunday\, March 1\, and a Moral March and Mass Meeting in Birmingham on Monday\, March 3 (click events for full schedule and to RSVP). \nAt the Mass Meetings\, we will hear from people directly impacted by systemic racism\, poverty\, ecological devastation\, militarism and the war economy\, and the corrupt moral narrative. \nThe Poor People’s Campaign: A National Call for Moral Revival is organizing a 25-state We Must Do M.O.R.E. National Tour from September 2019 to May 2020. This tour will lead into the Mass Poor People’s Assembly & Moral March on Washington\, where thousands of poor people and moral agents will gather at the nation’s capitol on June 20\, 2020 to demonstrate their power. \nWe will demand the implementation of our Moral Agenda and call all people of conscience to engage in deeply moral civic engagement and voting that cares about poor and low-wealth people\, the sick\, immigrants\, workers\, the environment\, people with disabilities\, first nations\, the LGBTQ community\, and peace over war. \nClick here for the full list of upcoming We Must Do M.O.R.E. Tour stops.
URL:https://www.poorpeoplescampaign.org/event/birmingham-moral-monday/
CATEGORIES:Alabama,National Events
END:VEVENT
END:VCALENDAR