BEGIN:VCALENDAR
VERSION:2.0
PRODID:-//Poor People&#039;s Campaign - ECPv5.7.0//NONSGML v1.0//EN
CALSCALE:GREGORIAN
METHOD:PUBLISH
X-WR-CALNAME:Poor People&#039;s Campaign
X-ORIGINAL-URL:https://www.poorpeoplescampaign.org
X-WR-CALDESC:Events for Poor People&#039;s Campaign
BEGIN:VTIMEZONE
TZID:America/New_York
BEGIN:DAYLIGHT
TZOFFSETFROM:-0500
TZOFFSETTO:-0400
TZNAME:EDT
DTSTART:20200308T070000
END:DAYLIGHT
BEGIN:STANDARD
TZOFFSETFROM:-0400
TZOFFSETTO:-0500
TZNAME:EST
DTSTART:20201101T060000
END:STANDARD
TZID:America/Chicago
BEGIN:DAYLIGHT
TZOFFSETFROM:-0600
TZOFFSETTO:-0500
TZNAME:CDT
DTSTART:20200308T080000
END:DAYLIGHT
BEGIN:STANDARD
TZOFFSETFROM:-0500
TZOFFSETTO:-0600
TZNAME:CST
DTSTART:20201101T070000
END:STANDARD
END:VTIMEZONE
BEGIN:VEVENT
DTSTART;TZID=America/New_York:20200321T130000
DTEND;TZID=America/New_York:20200321T150000
DTSTAMP:20210612T123720
CREATED:20200301T081651Z
LAST-MODIFIED:20200302T123917Z
UID:986-1584795600-1584802800@www.poorpeoplescampaign.org
SUMMARY:Bangor-area PPC Public Meeting
DESCRIPTION:Our nation is going through a moral crisis\, and we are uniting to address it by nonviolently fighting systemic racism\, poverty\, the war economy\, ecological devastation\, and the distorted moral narrative of religious nationalism. We understand that all of these injustices are interconnected and that we cannot address one without addressing them all.We are a grassroots movement led by poor and impacted people in over 40 states. The movement needs all of us!We are getting ready for the Mass Poor People’s Assembly & Moral March on Washington with the entire national campaign on June 20\, 2020.Join us for the meeting on Saturday\, March 21! There will be snacks.Contact Adam at athiesen9@gmail.com or 708-903-0651 if you have questions or need a ride. Forward together!
URL:https://www.poorpeoplescampaign.org/event/bangor-area-ppc-public-meeting-2/
LOCATION:Bangor Peace and Justice Center\, 96 Harlow Street\, Bangor\, Maine\, 04401\, United States
CATEGORIES:Maine
END:VEVENT
BEGIN:VEVENT
DTSTART;TZID=America/New_York:20200321T130000
DTEND;TZID=America/New_York:20200321T150000
DTSTAMP:20210612T123720
CREATED:20200313T131850Z
LAST-MODIFIED:20200313T131851Z
UID:1142-1584795600-1584802800@www.poorpeoplescampaign.org
SUMMARY:Bangor-area PPC Public Meeting
DESCRIPTION:Our nation is going through a moral crisis\, and we are uniting to address it by nonviolently fighting systemic racism\, poverty\, the war economy\, ecological devastation\, and the distorted moral narrative of religious nationalism. We understand that all of these injustices are interconnected and that we cannot address one without addressing them all.We are a grassroots movement led by poor and impacted people in over 40 states. The movement needs all of us!We are getting ready for the Mass Poor People’s Assembly & Moral March on Washington with the entire national campaign on June 20\, 2020.Join us for the meeting on Saturday\, March 21! There will be snacks.Contact Adam at athiesen9@gmail.com or 708-903-0651 if you have questions or need a ride. Forward together!
URL:https://www.poorpeoplescampaign.org/event/bangor-area-ppc-public-meeting-4/
LOCATION:Bangor Peace and Justice Center\, 96 Harlow Street\, Bangor\, Maine\, 04401\, United States
CATEGORIES:Maine
END:VEVENT
BEGIN:VEVENT
DTSTART;TZID=America/Chicago:20200321T140000
DTEND;TZID=America/Chicago:20200321T153000
DTSTAMP:20210612T123720
CREATED:20200226T105711Z
LAST-MODIFIED:20200314T123141Z
UID:916-1584799200-1584804600@www.poorpeoplescampaign.org
SUMMARY:**POSTPONED** Springfield IL Chapter Launch\, Gather for Action and Connection
DESCRIPTION:We all must do our part to slow the spread of this virus to protect\neach other\, especially the most vulnerable among us. We can do this by keeping\nourselves informed\, following best practices and setting a good example and so\,\nwe have decided to postpone this event.  \n\n\n\nWe hope you will stay connected\, take care of yourself\, your\nloved ones and also\, those you don’t know but who are in need. \n\n\n\n** This event is accessible ** \n\n\n\nCome join us as we gather to learn more about the campaign and launch\n a Springfield area chapter of the Illinois Poor People’s Campaign. \n\n\n\nThe Poor People’s Campaign: A National Call for Moral Revival is a \nbroad-based\, joyful\, non-violent\, mass movement for voting rights and \nvoter registration\, addressing the interlocking injustices of racism\, \npoverty\, the war economy\, environmental devastation\, and the false moral\n narrative of religious nationalism. \n\n\n\nConnect Springfield’s issues with people’s issues around the nation. \n\n\n\nRefreshments will be served. \n\n\n\nWe are all in this together.
URL:https://www.poorpeoplescampaign.org/event/springfield-il-chapter-launch-gather-for-action-and-connection/
LOCATION:First Church of the Brethren\, 2155 Yale Boulevard\, Springfield\, Illinois\, 62703\, United States
CATEGORIES:Illinois
ATTACH;FMTTYPE=image/jpeg:https://www.poorpeoplescampaign.org/wp-content/uploads/2020/02/Springfield_Gathering_3.21.jpg
END:VEVENT
END:VCALENDAR