BEGIN:VCALENDAR
VERSION:2.0
PRODID:-//Poor People&#039;s Campaign - ECPv5.7.0//NONSGML v1.0//EN
CALSCALE:GREGORIAN
METHOD:PUBLISH
X-WR-CALNAME:Poor People&#039;s Campaign
X-ORIGINAL-URL:https://www.poorpeoplescampaign.org
X-WR-CALDESC:Events for Poor People&#039;s Campaign
BEGIN:VTIMEZONE
TZID:America/New_York
BEGIN:DAYLIGHT
TZOFFSETFROM:-0500
TZOFFSETTO:-0400
TZNAME:EDT
DTSTART:20200308T070000
END:DAYLIGHT
BEGIN:STANDARD
TZOFFSETFROM:-0400
TZOFFSETTO:-0500
TZNAME:EST
DTSTART:20201101T060000
END:STANDARD
END:VTIMEZONE
BEGIN:VEVENT
DTSTART;TZID=America/New_York:20200611T200000
DTEND;TZID=America/New_York:20200611T210000
DTSTAMP:20210625T022017
CREATED:20200610T142034Z
LAST-MODIFIED:20200610T142035Z
UID:1699-1591905600-1591909200@www.poorpeoplescampaign.org
SUMMARY:Joining the Dharma-Yuddha: Protest & Activism as Hindus
DESCRIPTION:Sadhana Satsanghs are Sadhana: Coalition of Progressive Hindus’ monthly inclusive\, egalitarian and earth-honoring worship gatherings. Due to the ongoing Coronavirus (Covid-19) pandemic\, Sadhana feels it is important to nurture both the spirit and the bodies of their members by performing weekly e-Satsanghs every Thursday via Zoom. \n\n\n\nIn the past few weeks\, we have been immersed in photos\, videos\, and articles about the powerful Black Lives Matter protests that have been sweeping the nation\, which can be described as the Dharma-Yuddha (righteous war\, or struggle) of our times. Many of us have joined these protests ourselves. We wanted to create a space for members of the Sadhana community to reflect on protest\, activism\, and any questions we may have. \n\n\n\nWe will begin with a short message from Pandit Sanjai Doobay of Shri Trimurti Bhavan Mandir. Sadhana’s Pandita-in-Residence\, Pratima Doobay\, will then ground us with a short prayer and reflection. We will then hear from Dr. Adam Barnes\, Co-Coordinator of the National Faith Partners Team for the Poor People’s Campaign: A National Call for a Moral Revival. \n\n\n\nFinally\, we will have time for a group discussion around the experience of protest\, the principle of ahimsa (nonviolence)\, our role as allies\, and our duty to join this dharma-yuddha. \n\n\n\nWe hope you can join us! Stay tuned for another Satsangh on dismantling anti-Blackness in Hindu communities on June 18th.————————-CALL-IN INFORMATION: \n\n\n\nThis Satsangh will be broadcasted on Zoom and Facebook Live. \n\n\n\nIf you would like to join via Zoom\, please register in advance for this webinar at: https://us02web.zoom.us/webinar/register/WN_C4jn7KKUT0C87nGI4M_2kQ \n\n\n\nAfter registering\, you will receive a confirmation email containing information about joining the webinar.
URL:https://www.poorpeoplescampaign.org/event/joining-the-dharma-yuddha-protest-activism-as-hindus/
CATEGORIES:National Events
ATTACH;FMTTYPE=image/jpeg:https://www.poorpeoplescampaign.org/wp-content/uploads/2020/06/102773526_3208372839183356_9025092789638660690_o.jpg
END:VEVENT
END:VCALENDAR