BEGIN:VCALENDAR
VERSION:2.0
PRODID:-//Poor People&#039;s Campaign - ECPv5.7.0//NONSGML v1.0//EN
CALSCALE:GREGORIAN
METHOD:PUBLISH
X-WR-CALNAME:Poor People&#039;s Campaign
X-ORIGINAL-URL:https://www.poorpeoplescampaign.org
X-WR-CALDESC:Events for Poor People&#039;s Campaign
BEGIN:VTIMEZONE
TZID:America/Chicago
BEGIN:DAYLIGHT
TZOFFSETFROM:-0600
TZOFFSETTO:-0500
TZNAME:CDT
DTSTART:20200308T080000
END:DAYLIGHT
BEGIN:STANDARD
TZOFFSETFROM:-0500
TZOFFSETTO:-0600
TZNAME:CST
DTSTART:20201101T070000
END:STANDARD
END:VTIMEZONE
BEGIN:VEVENT
DTSTART;TZID=America/Chicago:20200716T200000
DTEND;TZID=America/Chicago:20200716T213000
DTSTAMP:20210620T151518
CREATED:20200708T212723Z
LAST-MODIFIED:20200708T213229Z
UID:1924-1594929600-1594935000@www.poorpeoplescampaign.org
SUMMARY:Chicago Southside & Suburbs – Organizing for Action Call
DESCRIPTION:Please join us for this Organizing for Action Call on Thursday\, July 16th at 8pm Central! Learn the latest about this historic campaign\, and find out what you can do right now to plug in. \n\n\n\nAgenda & speakers TBA \n\n\n\nRegistration for this call is required\, and you will be emailed call-in information upon registering.  \n\n\n\nhttps://actionnetwork.org/events/chicago-southside-suburbs-organizing-for-action-call-thur-july-16-8pm/
URL:https://www.poorpeoplescampaign.org/event/chicago-southside-suburbs-organizing-for-action-call-thur-july-16-8pm/
CATEGORIES:Illinois
END:VEVENT
END:VCALENDAR