BEGIN:VCALENDAR
VERSION:2.0
PRODID:-//Poor People&#039;s Campaign - ECPv5.7.0//NONSGML v1.0//EN
CALSCALE:GREGORIAN
METHOD:PUBLISH
X-WR-CALNAME:Poor People&#039;s Campaign
X-ORIGINAL-URL:https://www.poorpeoplescampaign.org
X-WR-CALDESC:Events for Poor People&#039;s Campaign
BEGIN:VTIMEZONE
TZID:America/New_York
BEGIN:DAYLIGHT
TZOFFSETFROM:-0500
TZOFFSETTO:-0400
TZNAME:EDT
DTSTART:20200308T070000
END:DAYLIGHT
BEGIN:STANDARD
TZOFFSETFROM:-0400
TZOFFSETTO:-0500
TZNAME:EST
DTSTART:20201101T060000
END:STANDARD
END:VTIMEZONE
BEGIN:VEVENT
DTSTART;TZID=America/New_York:20200801T190000
DTEND;TZID=America/New_York:20200801T200000
DTSTAMP:20210620T151535
CREATED:20200728T142205Z
LAST-MODIFIED:20200728T142206Z
UID:2078-1596308400-1596312000@www.poorpeoplescampaign.org
SUMMARY:NW Regional Meet & Greet
DESCRIPTION:Please join us Saturday\, August 1st at 7PM EST for a chance to meet your NW OHPPC Family. Let’s get to know each other. Anyone that would like to get plugged into work that needs done for the OHPPC and find out how the OHPPC can support work you all are already doing in NW OH\, please attend! If you cannot make it don’t worry. We can record it and share with you. Click here to register. \n\n\n\nRegister here
URL:https://www.poorpeoplescampaign.org/event/nw-regional-meet-greet/
LOCATION:Online Zoom Meeting
CATEGORIES:Ohio,State Poor People's Campaign Events
END:VEVENT
END:VCALENDAR