BEGIN:VCALENDAR
VERSION:2.0
PRODID:-//Poor People&#039;s Campaign - ECPv5.5.0.1//NONSGML v1.0//EN
CALSCALE:GREGORIAN
METHOD:PUBLISH
X-WR-CALNAME:Poor People&#039;s Campaign
X-ORIGINAL-URL:https://www.poorpeoplescampaign.org
X-WR-CALDESC:Events for Poor People&#039;s Campaign
BEGIN:VTIMEZONE
TZID:America/Chicago
BEGIN:DAYLIGHT
TZOFFSETFROM:-0600
TZOFFSETTO:-0500
TZNAME:CDT
DTSTART:20200308T080000
END:DAYLIGHT
BEGIN:STANDARD
TZOFFSETFROM:-0500
TZOFFSETTO:-0600
TZNAME:CST
DTSTART:20201101T070000
END:STANDARD
TZID:America/Denver
BEGIN:DAYLIGHT
TZOFFSETFROM:-0700
TZOFFSETTO:-0600
TZNAME:MDT
DTSTART:20200308T090000
END:DAYLIGHT
BEGIN:STANDARD
TZOFFSETFROM:-0600
TZOFFSETTO:-0700
TZNAME:MST
DTSTART:20201101T080000
END:STANDARD
END:VTIMEZONE
BEGIN:VEVENT
DTSTART;TZID=America/Chicago:20201003T100000
DTEND;TZID=America/Chicago:20201003T120000
DTSTAMP:20210526T172105
CREATED:20200824T201256Z
LAST-MODIFIED:20200824T201256Z
UID:2256-1601719200-1601726400@www.poorpeoplescampaign.org
SUMMARY:(IL) Chicago Area South Side Phone Banking Call
DESCRIPTION:Registration is required to get the call in information. You can find the link to register here. https://actionnetwork.org/campaigns/heres-whats-going-on-around-illinois \n\n\n\nWe are in a crucially important period of change\, of demonstrations\, of struggle to change the distorted moral narrative in this country that perpetuates the systemic racism\, the systemic poverty\, the war economy and the environmental destruction that is devastating our country. \n\n\n\nIn response\, the South Side Cluster of the Poor People’s Campaign is conducting Phone Banking every Saturday from 10 to noon starting Saturday\, August 22nd through October 31st. The Zoom call will include training on how to do Phone Banking: it’s a fun and rewarding experience! We will provide instructions and supporting information and we’ll send you 25 Phone Numbers to get you started. It’s easy! It’s cool! AND it’s VERY important!
URL:https://www.poorpeoplescampaign.org/event/il-chicago-area-south-side-phone-banking-call/2020-10-03/
CATEGORIES:Illinois
ATTACH;FMTTYPE=image/jpeg:https://www.poorpeoplescampaign.org/wp-content/uploads/2019/12/banner_MORE-scaled.jpg
END:VEVENT
BEGIN:VEVENT
DTSTART;TZID=America/Denver:20201003T140000
DTEND;TZID=America/Denver:20201003T160000
DTSTAMP:20210526T172105
CREATED:20200923T185412Z
LAST-MODIFIED:20200923T190240Z
UID:2613-1601733600-1601740800@www.poorpeoplescampaign.org
SUMMARY:Getting to Know You - Community Meeting Series - Colorado Springs
DESCRIPTION:We are painfully aware that America is still a slave-labor based society with too many of her citizens struggling to subsist on sub-subsistence wages. We are watching the most vulnerable among us be sacrificed to C-19\, watching jobs dwindle while grocery bills skyrocket\, and well over 35 million of us are grossly food insecure. As if food insecurity could be anything but gross. Many Americans are newly house less\, many more struggling to pay rent next month.We know the only way to survive this deadly onslaught is to rebuild and refortify self-sustaining communities. We need your help. We need you to tell us what sustainable\, thriving community looks like through your eyes.Please join the discussion; your voice is the crucial one. \n\n\n\nJoin us on Zoom: https://us02web.zoom.us/j/83865815554?pwd=NU1kLzBkRktiNk5VYXhIYjZOTjEvQT09 and Facebook live
URL:https://www.poorpeoplescampaign.org/event/getting-to-know-you-community-meeting-series-colorado-springs/
LOCATION:https://us02web.zoom.us/j/83865815554?pwd=NU1kLzBkRktiNk5VYXhIYjZOTjEvQT09
CATEGORIES:Colorado,State Poor People's Campaign Events
ATTACH;FMTTYPE=image/jpeg:https://www.poorpeoplescampaign.org/wp-content/uploads/2020/09/2019-08-20-kpaynter-refinery-community-meeting-4-768x512-1.jpg
END:VEVENT
END:VCALENDAR