BEGIN:VCALENDAR
VERSION:2.0
PRODID:-//Poor People&#039;s Campaign - ECPv5.5.0.1//NONSGML v1.0//EN
CALSCALE:GREGORIAN
METHOD:PUBLISH
X-WR-CALNAME:Poor People&#039;s Campaign
X-ORIGINAL-URL:https://www.poorpeoplescampaign.org
X-WR-CALDESC:Events for Poor People&#039;s Campaign
BEGIN:VTIMEZONE
TZID:America/New_York
BEGIN:DAYLIGHT
TZOFFSETFROM:-0500
TZOFFSETTO:-0400
TZNAME:EDT
DTSTART:20200308T070000
END:DAYLIGHT
BEGIN:STANDARD
TZOFFSETFROM:-0400
TZOFFSETTO:-0500
TZNAME:EST
DTSTART:20201101T060000
END:STANDARD
TZID:America/Chicago
BEGIN:DAYLIGHT
TZOFFSETFROM:-0600
TZOFFSETTO:-0500
TZNAME:CDT
DTSTART:20200308T080000
END:DAYLIGHT
BEGIN:STANDARD
TZOFFSETFROM:-0500
TZOFFSETTO:-0600
TZNAME:CST
DTSTART:20201101T070000
END:STANDARD
END:VTIMEZONE
BEGIN:VEVENT
DTSTART;TZID=America/New_York:20201007T190000
DTEND;TZID=America/New_York:20201007T200000
DTSTAMP:20210526T172122
CREATED:20200416T191451Z
LAST-MODIFIED:20200416T191451Z
UID:2070-1602097200-1602100800@www.poorpeoplescampaign.org
SUMMARY:(OH) Ohio Weekly Check In\, Connect and Commune
DESCRIPTION:In response to the current health crisis we are all facing\, we have decided to offer a place for everyone to check in  with each other\, connect with each other and  commune with love for each other. By showing compassion for each other’s circumstances\, lifting each other up\, providing a space to share our challenges and provide a space to release\, we can broaden our relationships and connections to each other across the state and build community as well as relieve the effects of isolation. \n\n\n\nRegister to receive the zoom information by filling out the form bit.ly/WeeklyConnection and the zoom info will be sent to you for each call. You may join by computer or by phone. If you need support connecting please let us know by filing out the form. Sending you peace\, love and light during this difficult time. If one of us suffers\, we all suffer. We are One Forward Together\, Not One Step Back!
URL:https://www.poorpeoplescampaign.org/event/oh-ohio-weekly-check-in-connect-and-commune/2020-10-07/
CATEGORIES:Ohio,State Poor People's Campaign Events
END:VEVENT
BEGIN:VEVENT
DTSTART;TZID=America/Chicago:20201007T200000
DTEND;TZID=America/Chicago:20201007T210000
DTSTAMP:20210526T172122
CREATED:20200918T151916Z
LAST-MODIFIED:20200918T151917Z
UID:2584-1602100800-1602104400@www.poorpeoplescampaign.org
SUMMARY:Illinois Poor People’s Campaign Statewide Action Call
DESCRIPTION:Registration Required \n\n\n\nPlease join us for the next Illinois Poor People’s Campaign’s Statewide Action Call on Wednesday\, October 7th at 8pm Central! Learn the latest about this historic campaign\, hear report backs from impacted folks across the state and find out what you can do right now to plug in. RSVP here bit.ly/ilppc-oct7-call
URL:https://www.poorpeoplescampaign.org/event/illinois-poor-peoples-campaign-statewide-action-call/
CATEGORIES:Illinois
ATTACH;FMTTYPE=image/jpeg:https://www.poorpeoplescampaign.org/wp-content/uploads/2020/09/IL-PPC-October-promo-meme.jpeg
ORGANIZER;CN="Illinois%20Poor%20People%27s%20Campaign":MAILTO:illinois@poorpeoplescampaign.org
END:VEVENT
END:VCALENDAR