BEGIN:VCALENDAR
VERSION:2.0
PRODID:-//Poor People&#039;s Campaign - ECPv5.7.0//NONSGML v1.0//EN
CALSCALE:GREGORIAN
METHOD:PUBLISH
X-WR-CALNAME:Poor People&#039;s Campaign
X-ORIGINAL-URL:https://www.poorpeoplescampaign.org
X-WR-CALDESC:Events for Poor People&#039;s Campaign
BEGIN:VTIMEZONE
TZID:America/Denver
BEGIN:DAYLIGHT
TZOFFSETFROM:-0700
TZOFFSETTO:-0600
TZNAME:MDT
DTSTART:20200308T090000
END:DAYLIGHT
BEGIN:STANDARD
TZOFFSETFROM:-0600
TZOFFSETTO:-0700
TZNAME:MST
DTSTART:20201101T080000
END:STANDARD
END:VTIMEZONE
BEGIN:VEVENT
DTSTART;TZID=America/Denver:20201212T140000
DTEND;TZID=America/Denver:20201212T160000
DTSTAMP:20210620T151556
CREATED:20201209T190017Z
LAST-MODIFIED:20201211T024312Z
UID:3048-1607781600-1607788800@www.poorpeoplescampaign.org
SUMMARY:Building Relationships - Community Conversation Series - CO Springs/SoCo - Dignity in Housing
DESCRIPTION:We’re working hard to create meaningful conversations within our communities about our communities.How you living? Housing inadequate? Rent too high? CO Springs/SoCo has major housing issues. Come on out\, let’s solve them together!Join the conversation; it won’t be the same without you!
URL:https://www.poorpeoplescampaign.org/event/building-relationships-community-conversation-series-co-springs-soco-dignity-in-housing/
CATEGORIES:Colorado,State Poor People's Campaign Events
ATTACH;FMTTYPE=image/jpeg:https://www.poorpeoplescampaign.org/wp-content/uploads/2020/12/FlyerCspgsLarge.jpg
ORGANIZER;CN="Colorado%20Poor%20People%27s%20Campaign%3A%20A%20National%20Call%20for%20Moral%20Revival":MAILTO:colorado@poorpeoplescampaign.org
END:VEVENT
END:VCALENDAR