BEGIN:VCALENDAR
VERSION:2.0
PRODID:-//Poor People&#039;s Campaign - ECPv5.7.0//NONSGML v1.0//EN
CALSCALE:GREGORIAN
METHOD:PUBLISH
X-WR-CALNAME:Poor People&#039;s Campaign
X-ORIGINAL-URL:https://www.poorpeoplescampaign.org
X-WR-CALDESC:Events for Poor People&#039;s Campaign
BEGIN:VTIMEZONE
TZID:America/New_York
BEGIN:DAYLIGHT
TZOFFSETFROM:-0500
TZOFFSETTO:-0400
TZNAME:EDT
DTSTART:20200308T070000
END:DAYLIGHT
BEGIN:STANDARD
TZOFFSETFROM:-0400
TZOFFSETTO:-0500
TZNAME:EST
DTSTART:20201101T060000
END:STANDARD
END:VTIMEZONE
BEGIN:VEVENT
DTSTART;TZID=America/New_York:20201224T190000
DTEND;TZID=America/New_York:20201224T200000
DTSTAMP:20210625T021553
CREATED:20200903T134239Z
LAST-MODIFIED:20200903T134239Z
UID:2439-1608836400-1608840000@www.poorpeoplescampaign.org
SUMMARY:OHPPC Open House
DESCRIPTION:New to the Poor People’s Campaign? \n\n\n\nJoin us for this introduction to the Ohio Poor People’s Campaign\, and bring a friend along! All are welcome. \n\n\n\nRegister here: https://bit.ly/OHPPCOPENHOUSE \n\n\n\nSee you soon!
URL:https://www.poorpeoplescampaign.org/event/ohppc-open-house-2/2020-12-24/
CATEGORIES:Ohio,State Poor People's Campaign Events
END:VEVENT
END:VCALENDAR