BEGIN:VCALENDAR
VERSION:2.0
PRODID:-//Poor People&#039;s Campaign - ECPv5.7.0//NONSGML v1.0//EN
CALSCALE:GREGORIAN
METHOD:PUBLISH
X-WR-CALNAME:Poor People&#039;s Campaign
X-ORIGINAL-URL:https://www.poorpeoplescampaign.org
X-WR-CALDESC:Events for Poor People&#039;s Campaign
BEGIN:VTIMEZONE
TZID:America/Denver
BEGIN:DAYLIGHT
TZOFFSETFROM:-0700
TZOFFSETTO:-0600
TZNAME:MDT
DTSTART:20210314T090000
END:DAYLIGHT
BEGIN:STANDARD
TZOFFSETFROM:-0600
TZOFFSETTO:-0700
TZNAME:MST
DTSTART:20211107T080000
END:STANDARD
END:VTIMEZONE
BEGIN:VEVENT
DTSTART;TZID=America/Denver:20210206T140000
DTEND;TZID=America/Denver:20210206T160000
DTSTAMP:20210614T060019
CREATED:20210204T181014Z
LAST-MODIFIED:20210204T181200Z
UID:3237-1612620000-1612627200@www.poorpeoplescampaign.org
SUMMARY:Pursuit of Happiness - Community Conversation - Denver
DESCRIPTION:The Declaration of Independence “guarantees” the right to “life\, liberty and the pursuit of happiness.” Is “pursuit of happiness” a reality in Denver in 2021? Is it only for the rich? What is holding you back in Denver? What obstacles to happiness do you see in your life? How do we build a dream community to better the world? What is worth fighting for? Who is worth fighting for? \n\n\n\nMaybe you’re beginning to sense a call to activism but aren’t sure where to start? Join us in a Denver Community Conversation of the Colorado Poor People’s Campaign: A National Call For Moral Revival\, standing together and committed to lifting up and deepening the leadership of those most affected and to building unity across lines of division. Let’s talk. Let’s build community. \n\n\n\nJoin us via Zoom: https://us02web.zoom.us/j/81779237510?pwd=NldmOW1PZXNyNDVMakJESkpyWVZnQT09
URL:https://www.poorpeoplescampaign.org/event/pursuit-of-happiness-community-conversation-denver/
CATEGORIES:Colorado
ATTACH;FMTTYPE=image/jpeg:https://www.poorpeoplescampaign.org/wp-content/uploads/2021/02/HollisSlide2.jpg
END:VEVENT
END:VCALENDAR