BEGIN:VCALENDAR
VERSION:2.0
PRODID:-//Poor People&#039;s Campaign - ECPv5.7.0//NONSGML v1.0//EN
CALSCALE:GREGORIAN
METHOD:PUBLISH
X-WR-CALNAME:Poor People&#039;s Campaign
X-ORIGINAL-URL:https://www.poorpeoplescampaign.org
X-WR-CALDESC:Events for Poor People&#039;s Campaign
BEGIN:VTIMEZONE
TZID:America/New_York
BEGIN:DAYLIGHT
TZOFFSETFROM:-0500
TZOFFSETTO:-0400
TZNAME:EDT
DTSTART:20210314T070000
END:DAYLIGHT
BEGIN:STANDARD
TZOFFSETFROM:-0400
TZOFFSETTO:-0500
TZNAME:EST
DTSTART:20211107T060000
END:STANDARD
END:VTIMEZONE
BEGIN:VEVENT
DTSTART;TZID=America/New_York:20210210T173000
DTEND;TZID=America/New_York:20210213T153000
DTSTAMP:20210625T022135
CREATED:20210129T183001Z
LAST-MODIFIED:20210129T183003Z
UID:3214-1612978200-1613230200@www.poorpeoplescampaign.org
SUMMARY:Kansas Poor People's Assembly Virtual Gathering
DESCRIPTION:
URL:https://www.poorpeoplescampaign.org/event/kansas-poor-peoples-assembly-virtual-gathering/
END:VEVENT
END:VCALENDAR