BEGIN:VCALENDAR
VERSION:2.0
PRODID:-//Poor People&#039;s Campaign - ECPv5.7.0//NONSGML v1.0//EN
CALSCALE:GREGORIAN
METHOD:PUBLISH
X-WR-CALNAME:Poor People&#039;s Campaign
X-ORIGINAL-URL:https://www.poorpeoplescampaign.org
X-WR-CALDESC:Events for Poor People&#039;s Campaign
BEGIN:VTIMEZONE
TZID:America/New_York
BEGIN:DAYLIGHT
TZOFFSETFROM:-0500
TZOFFSETTO:-0400
TZNAME:EDT
DTSTART:20210314T070000
END:DAYLIGHT
BEGIN:STANDARD
TZOFFSETFROM:-0400
TZOFFSETTO:-0500
TZNAME:EST
DTSTART:20211107T060000
END:STANDARD
TZID:America/Denver
BEGIN:DAYLIGHT
TZOFFSETFROM:-0700
TZOFFSETTO:-0600
TZNAME:MDT
DTSTART:20210314T090000
END:DAYLIGHT
BEGIN:STANDARD
TZOFFSETFROM:-0600
TZOFFSETTO:-0700
TZNAME:MST
DTSTART:20211107T080000
END:STANDARD
END:VTIMEZONE
BEGIN:VEVENT
DTSTART;TZID=America/New_York:20210215T150000
DTEND;TZID=America/New_York:20210215T170000
DTSTAMP:20210625T022149
CREATED:20210212T181541Z
LAST-MODIFIED:20210214T203643Z
UID:3269-1613401200-1613408400@www.poorpeoplescampaign.org
SUMMARY:Heal the Nation: Just COVID Relief + $15/Hr Now!
DESCRIPTION:58.3 million workers\, nearly half the U.S. workforce\, make less than $15/hour. Raising the federal minimum wage to $15/hour would put $328 billion back into the hands of families\, who will spend most of that back into the economy. Amidst pandemic and recession\, we need real relief\, and we know that real relief includes living wages for ALL. \n\n\n\nJoin us this Moral Monday to Raise Up for $15 at 3pm ET / 12pm PT. We’ll be streaming live for our nationwide online broadcast to hear from folks who know what it’s like to try to get by on minimum wage in America\, and who have borne the pain of the pandemic firsthand.
URL:https://www.poorpeoplescampaign.org/event/heal-the-nation-just-covid-relief-15-hr-now/
CATEGORIES:National Events
ATTACH;FMTTYPE=image/jpeg:https://www.poorpeoplescampaign.org/wp-content/uploads/2021/02/EuNYoRaXAAQ_kx7.jpeg
END:VEVENT
BEGIN:VEVENT
DTSTART;TZID=America/Denver:20210215T190000
DTEND;TZID=America/Denver:20210215T200000
DTSTAMP:20210625T022149
CREATED:20200702T153015Z
LAST-MODIFIED:20200702T153015Z
UID:2737-1613415600-1613419200@www.poorpeoplescampaign.org
SUMMARY:Colorado Poor People's Campaign Statewide Meeting
DESCRIPTION:Join the Colorado Poor People’s Campaign: A National Call for Moral Revival for our weekly statewide meeting! \n\n\n\nClick here to join via Zoom.
URL:https://www.poorpeoplescampaign.org/event/colorado-poor-peoples-campaign-statewide-meeting-2020-10-12/2021-02-15/
CATEGORIES:Colorado
END:VEVENT
END:VCALENDAR