BEGIN:VCALENDAR
VERSION:2.0
PRODID:-//Poor People&#039;s Campaign - ECPv5.5.0.1//NONSGML v1.0//EN
CALSCALE:GREGORIAN
METHOD:PUBLISH
X-WR-CALNAME:Poor People&#039;s Campaign
X-ORIGINAL-URL:https://www.poorpeoplescampaign.org
X-WR-CALDESC:Events for Poor People&#039;s Campaign
BEGIN:VTIMEZONE
TZID:America/New_York
BEGIN:DAYLIGHT
TZOFFSETFROM:-0500
TZOFFSETTO:-0400
TZNAME:EDT
DTSTART:20210314T070000
END:DAYLIGHT
BEGIN:STANDARD
TZOFFSETFROM:-0400
TZOFFSETTO:-0500
TZNAME:EST
DTSTART:20211107T060000
END:STANDARD
TZID:America/Denver
BEGIN:DAYLIGHT
TZOFFSETFROM:-0700
TZOFFSETTO:-0600
TZNAME:MDT
DTSTART:20210314T090000
END:DAYLIGHT
BEGIN:STANDARD
TZOFFSETFROM:-0600
TZOFFSETTO:-0700
TZNAME:MST
DTSTART:20211107T080000
END:STANDARD
END:VTIMEZONE
BEGIN:VEVENT
DTSTART;TZID=America/New_York:20210308T150000
DTEND;TZID=America/New_York:20210308T170000
DTSTAMP:20210526T172521
CREATED:20210305T194129Z
LAST-MODIFIED:20210305T194924Z
UID:3355-1615215600-1615222800@www.poorpeoplescampaign.org
SUMMARY:Moral Monday: Women on the Frontline
DESCRIPTION:Fearless\, courageous women have been among the architects of every major social justice shift in the history of this nation. The prayer of Prathia Hall provided the cornerstone of Rev. Dr. Martin Luther King Jr.’s iconic “I Have a Dream” speech\, and the women of the National Welfare Rights Organization were instrumental in forming the original Poor People’s Campaign. We have learned from these women\, and their mandate to us is to continue the fight for this country until it is filled with true liberty and justice for all. Yet today more than half of the nation’s 140 million poor and low-income are women and girls\, the overwhelming majority of frontline workers are women including 58% of all low-wage workers\, and women have been disproportionately impacted by the economic and social effects of the pandemic including job loss\, child care loss\, health care loss. \n\n\n\nJoined by labor unions\, faith leaders\, poor and low-income people from dozens of states across the country\, we will call on the Senate and the White House to make good on their campaign commitment to pass a $15/hr minimum wage now. We will demand the COVID package includes expanded unemployment benefits\, expanded health care\, vaccine equity and a guaranteed income for all! Join us as we continue to push Congress and the White House to enact our 14 Policy Priorities to Heal the Nation. \n\n\n\nClick here for a digital toolkit to amplify the Campaign’s 14 Policy Priorities for the first 100 days! \n\n\n\n**The online event will be ASL interpreted and open captioned.**
URL:https://www.poorpeoplescampaign.org/event/moral-monday-women-on-the-frontline/
CATEGORIES:National Events
ATTACH;FMTTYPE=image/jpeg:https://www.poorpeoplescampaign.org/wp-content/uploads/2021/03/March8th_MoralMonday-horizontal-4-scaled.jpg
END:VEVENT
BEGIN:VEVENT
DTSTART;TZID=America/Denver:20210308T190000
DTEND;TZID=America/Denver:20210308T200000
DTSTAMP:20210526T172521
CREATED:20200702T153015Z
LAST-MODIFIED:20200702T153015Z
UID:2740-1615230000-1615233600@www.poorpeoplescampaign.org
SUMMARY:Colorado Poor People's Campaign Statewide Meeting
DESCRIPTION:Join the Colorado Poor People’s Campaign: A National Call for Moral Revival for our weekly statewide meeting! \n\n\n\nClick here to join via Zoom.
URL:https://www.poorpeoplescampaign.org/event/colorado-poor-peoples-campaign-statewide-meeting-2020-10-12/2021-03-08/
CATEGORIES:Colorado
END:VEVENT
END:VCALENDAR