BEGIN:VCALENDAR
VERSION:2.0
PRODID:-//Poor People&#039;s Campaign - ECPv5.7.0//NONSGML v1.0//EN
CALSCALE:GREGORIAN
METHOD:PUBLISH
X-WR-CALNAME:Poor People&#039;s Campaign
X-ORIGINAL-URL:https://www.poorpeoplescampaign.org
X-WR-CALDESC:Events for Poor People&#039;s Campaign
BEGIN:VTIMEZONE
TZID:America/New_York
BEGIN:DAYLIGHT
TZOFFSETFROM:-0500
TZOFFSETTO:-0400
TZNAME:EDT
DTSTART:20210314T070000
END:DAYLIGHT
BEGIN:STANDARD
TZOFFSETFROM:-0400
TZOFFSETTO:-0500
TZNAME:EST
DTSTART:20211107T060000
END:STANDARD
TZID:America/Denver
BEGIN:DAYLIGHT
TZOFFSETFROM:-0700
TZOFFSETTO:-0600
TZNAME:MDT
DTSTART:20210314T090000
END:DAYLIGHT
BEGIN:STANDARD
TZOFFSETFROM:-0600
TZOFFSETTO:-0700
TZNAME:MST
DTSTART:20211107T080000
END:STANDARD
END:VTIMEZONE
BEGIN:VEVENT
DTSTART;TZID=America/New_York:20210405T160000
DTEND;TZID=America/New_York:20210405T170000
DTSTAMP:20210614T060102
CREATED:20210401T161016Z
LAST-MODIFIED:20210405T024724Z
UID:3469-1617638400-1617642000@www.poorpeoplescampaign.org
SUMMARY:Moral Monday: Make Holy Trouble
DESCRIPTION:Join us next week\, April 5th at 4pm ET / 1pm PT for the faith-centered Moral Monday: Make Holy Trouble. This Moral Monday people of faith and deep moral conviction will speak out on the need for voting rights and living wages and how the filibuster is blocking democracy and the pathways to moral policies. \n\n\n\nClick here for a digital toolkit to amplify the Campaign’s 14 Policy Priorities for the first 100 days!
URL:https://www.poorpeoplescampaign.org/event/moral-monday-making-holy-trouble/
CATEGORIES:National Events
ATTACH;FMTTYPE=image/png:https://www.poorpeoplescampaign.org/wp-content/uploads/2021/04/FBEventsize_MoralMonday_flyer.png
END:VEVENT
BEGIN:VEVENT
DTSTART;TZID=America/Denver:20210405T190000
DTEND;TZID=America/Denver:20210405T200000
DTSTAMP:20210614T060102
CREATED:20200702T153015Z
LAST-MODIFIED:20200702T153015Z
UID:2744-1617649200-1617652800@www.poorpeoplescampaign.org
SUMMARY:Colorado Poor People's Campaign Statewide Meeting
DESCRIPTION:Join the Colorado Poor People’s Campaign: A National Call for Moral Revival for our weekly statewide meeting! \n\n\n\nClick here to join via Zoom.
URL:https://www.poorpeoplescampaign.org/event/colorado-poor-peoples-campaign-statewide-meeting-2020-10-12/2021-04-05/
CATEGORIES:Colorado
END:VEVENT
END:VCALENDAR