BEGIN:VCALENDAR
VERSION:2.0
PRODID:-//Poor People&#039;s Campaign - ECPv5.7.0//NONSGML v1.0//EN
CALSCALE:GREGORIAN
METHOD:PUBLISH
X-WR-CALNAME:Poor People&#039;s Campaign
X-ORIGINAL-URL:https://www.poorpeoplescampaign.org
X-WR-CALDESC:Events for Poor People&#039;s Campaign
BEGIN:VTIMEZONE
TZID:America/New_York
BEGIN:DAYLIGHT
TZOFFSETFROM:-0500
TZOFFSETTO:-0400
TZNAME:EDT
DTSTART:20210314T070000
END:DAYLIGHT
BEGIN:STANDARD
TZOFFSETFROM:-0400
TZOFFSETTO:-0500
TZNAME:EST
DTSTART:20211107T060000
END:STANDARD
TZID:America/Denver
BEGIN:DAYLIGHT
TZOFFSETFROM:-0700
TZOFFSETTO:-0600
TZNAME:MDT
DTSTART:20210314T090000
END:DAYLIGHT
BEGIN:STANDARD
TZOFFSETFROM:-0600
TZOFFSETTO:-0700
TZNAME:MST
DTSTART:20211107T080000
END:STANDARD
END:VTIMEZONE
BEGIN:VEVENT
DTSTART;TZID=America/New_York:20210412T150000
DTEND;TZID=America/New_York:20210412T170000
DTSTAMP:20210625T022212
CREATED:20210409T163334Z
LAST-MODIFIED:20210409T163622Z
UID:3497-1618239600-1618246800@www.poorpeoplescampaign.org
SUMMARY:Moral Monday: Poverty (Un)Measured
DESCRIPTION:Poverty is a sin and the federal poverty measure is a disgrace. Join the Poor People’s Campaign for an online mass meeting on Monday\, April 12th at 3pm ET / 12pm PT to hear from poor and low-income people\, economists and faith leaders who will challenge the dominant narratives on poverty\, a narrative that blames poor people for our situation\, frames poverty as a racial issue to undermine multi-racial solidarity\, and doesn’t recognize the full 140 million and growing who live in poverty or are one emergency away from poverty.  \n\n\n\nAs Congress debates a long overdue infrastructure bill\, and we continue to fight for voting rights\, labor rights\, immigrant rights and living wages\, we will hear how narratives scapegoating poor people are translated into policies that further concentrate power and money in the hands of a few. Policies that deny adequate health care\, housing\, clean water and sanitation\, good jobs and welfare programs\, and feed attacks on our democratic participation. \n\n\n\nWe have the opportunity to rebuild this nation from the bottom up\, lifting up communities that have faced deindustrialization\, disinvestment and the devastation of the climate crisis. To do so\, we must rewrite the national narrative\, see clearly the need at hand\, and build the political will to make it possible. \n\n\n\nJoin us Monday as we continue to build a national movement with the power to transform a racial and economic system that requires vast numbers of poor people. \n\n\n\n**This online event will be ASL interpreted and open captioned.** \n\n\n\nClick here for a digital toolkit to amplify the Campaign’s 14 Policy Priorities for the first 100 days!
URL:https://www.poorpeoplescampaign.org/event/moral-monday-poverty-unmeasured/
CATEGORIES:National Events
END:VEVENT
BEGIN:VEVENT
DTSTART;TZID=America/Denver:20210412T190000
DTEND;TZID=America/Denver:20210412T200000
DTSTAMP:20210625T022212
CREATED:20200702T153015Z
LAST-MODIFIED:20200702T153015Z
UID:2745-1618254000-1618257600@www.poorpeoplescampaign.org
SUMMARY:Colorado Poor People's Campaign Statewide Meeting
DESCRIPTION:Join the Colorado Poor People’s Campaign: A National Call for Moral Revival for our weekly statewide meeting! \n\n\n\nClick here to join via Zoom.
URL:https://www.poorpeoplescampaign.org/event/colorado-poor-peoples-campaign-statewide-meeting-2020-10-12/2021-04-12/
CATEGORIES:Colorado
END:VEVENT
END:VCALENDAR