BEGIN:VCALENDAR
VERSION:2.0
PRODID:-//Poor People&#039;s Campaign - ECPv5.7.0//NONSGML v1.0//EN
CALSCALE:GREGORIAN
METHOD:PUBLISH
X-WR-CALNAME:Poor People&#039;s Campaign
X-ORIGINAL-URL:https://www.poorpeoplescampaign.org
X-WR-CALDESC:Events for Poor People&#039;s Campaign
BEGIN:VTIMEZONE
TZID:America/Chicago
BEGIN:DAYLIGHT
TZOFFSETFROM:-0600
TZOFFSETTO:-0500
TZNAME:CDT
DTSTART:20200308T080000
END:DAYLIGHT
BEGIN:STANDARD
TZOFFSETFROM:-0500
TZOFFSETTO:-0600
TZNAME:CST
DTSTART:20201101T070000
END:STANDARD
END:VTIMEZONE
BEGIN:VEVENT
DTSTART;TZID=America/Chicago:20200115T190000
DTEND;TZID=America/Chicago:20200115T210000
DTSTAMP:20210612T215736
CREATED:20191211T180209Z
LAST-MODIFIED:20191211T180255Z
UID:414-1579114800-1579122000@www.poorpeoplescampaign.org
SUMMARY:Des Moines\, IA | We Must Do MORE Tour
DESCRIPTION:**This event will be ASL Interpreted****This event is fully accessible for all people** \n\n\n\nJoin the Poor People’s Campaign: A National Call for Moral Revival in Des Moines for the 8th stop of the We Must Do M.O.R.E. national tour as we Mobilize\, Organize\, Register and Educate. \n\n\n\nAt the Mass Meeting\, we will hear from people directly impacted  by systemic racism\, poverty\, ecological devastation\, militarism and the war economy\, and the corrupt moral narrative. We will also hear from Rev. Barber and Rev. Theoharis\, Co-Chairs of the Poor People’s Campaign: A National Call for Moral Revival.  \n\n\n\nThe Poor People’s Campaign: A National Call for Moral Revival is organizing a 25-state We Must Do MORE national tour from September 2019 to May 2020. This tour will lead into the Mass Poor People’s Assembly & Moral March on Washington\, where thousands of poor people and moral agents will gather at the nation’s capitol on June 20\, 2020 to demonstrate their power.  \n\n\n\nWe will demand the implementation of our Moral Agenda and call all people of conscience to engage in deeply moral civic engagement and voting that cares about poor and low-wealth people\, the sick\, immigrants\, workers\, the environment\, people with disabilities\, first nations\, the LGBTQ community\, and peace over war. \n\n\n\n**No large bags or umbrellas will be allowed in the mass meetings and small bags are subject to being searched. \n\n\n\nPlease register @ Action Network event: http://bit.ly/DesMoinesMORE \n\n\n\n**Need a ride or have extra seats to offer in yours? Please sign up here on our statewide Iowa MORE Tour Mass Meeting Carpool system: https://www.prepatrip.com/t/wjd5i9 \n\n\n\n**Interested in supporting this event as a volunteer? Please sign up here: http://bit.ly/VolunteerIowaMORE
URL:https://www.poorpeoplescampaign.org/event/des-moines-ia-we-must-do-more-tour/
CATEGORIES:Iowa,National Events
END:VEVENT
END:VCALENDAR