BEGIN:VCALENDAR
VERSION:2.0
PRODID:-//Poor People&#039;s Campaign - ECPv5.7.0//NONSGML v1.0//EN
CALSCALE:GREGORIAN
METHOD:PUBLISH
X-WR-CALNAME:Poor People&#039;s Campaign
X-ORIGINAL-URL:https://www.poorpeoplescampaign.org
X-WR-CALDESC:Events for Poor People&#039;s Campaign
BEGIN:VTIMEZONE
TZID:America/New_York
BEGIN:DAYLIGHT
TZOFFSETFROM:-0500
TZOFFSETTO:-0400
TZNAME:EDT
DTSTART:20200308T070000
END:DAYLIGHT
BEGIN:STANDARD
TZOFFSETFROM:-0400
TZOFFSETTO:-0500
TZNAME:EST
DTSTART:20201101T060000
END:STANDARD
TZID:America/Los_Angeles
BEGIN:DAYLIGHT
TZOFFSETFROM:-0800
TZOFFSETTO:-0700
TZNAME:PDT
DTSTART:20200308T100000
END:DAYLIGHT
BEGIN:STANDARD
TZOFFSETFROM:-0700
TZOFFSETTO:-0800
TZNAME:PST
DTSTART:20201101T090000
END:STANDARD
END:VTIMEZONE
BEGIN:VEVENT
DTSTART;TZID=America/New_York:20200217T080000
DTEND;TZID=America/New_York:20200217T200000
DTSTAMP:20210612T215806
CREATED:20200204T123331Z
LAST-MODIFIED:20200211T121625Z
UID:702-1581926400-1581969600@www.poorpeoplescampaign.org
SUMMARY:(OH) Voter Registration Drive (Dayton Only)
DESCRIPTION:
URL:https://www.poorpeoplescampaign.org/event/voter-registration-drive-dayton-only-2/
LOCATION:McKinley Church\, 196 Hawthorn Street\, Dayton\, Ohio\, 45402\, United States
CATEGORIES:Ohio,State Poor People's Campaign Events
END:VEVENT
BEGIN:VEVENT
DTSTART;TZID=America/Los_Angeles:20200217T180000
DTEND;TZID=America/Los_Angeles:20200217T200000
DTSTAMP:20210612T215806
CREATED:20200124T221557Z
LAST-MODIFIED:20200124T222013Z
UID:612-1581962400-1581969600@www.poorpeoplescampaign.org
SUMMARY:Sacramento Poor People’s Campaign Meeting
DESCRIPTION:Save the dates and join us In-Person or Call-in: Sacramento Poor People’s Campaign’s Meeting Monday\, February 17\, 2020 from 6pm-8pm at 4625 44th Street\, Rm 5\, Sacramento\, CA 95820. Open to all.  For more info please visit: Sac PPC’s Facebook Page: https://www.facebook.com/SactoPPC/
URL:https://www.poorpeoplescampaign.org/event/sacramento-poor-peoples-campaign-meeting/
LOCATION:Black Parallel School Board\, 4625 44th Street\, Room 5\, Sacramento\, California\, 95820\, United States
CATEGORIES:California
END:VEVENT
END:VCALENDAR