BEGIN:VCALENDAR
VERSION:2.0
PRODID:-//Poor People&#039;s Campaign - ECPv5.7.0//NONSGML v1.0//EN
CALSCALE:GREGORIAN
METHOD:PUBLISH
X-WR-CALNAME:Poor People&#039;s Campaign
X-ORIGINAL-URL:https://www.poorpeoplescampaign.org
X-WR-CALDESC:Events for Poor People&#039;s Campaign
BEGIN:VTIMEZONE
TZID:America/New_York
BEGIN:DAYLIGHT
TZOFFSETFROM:-0500
TZOFFSETTO:-0400
TZNAME:EDT
DTSTART:20200308T070000
END:DAYLIGHT
BEGIN:STANDARD
TZOFFSETFROM:-0400
TZOFFSETTO:-0500
TZNAME:EST
DTSTART:20201101T060000
END:STANDARD
TZID:America/Los_Angeles
BEGIN:DAYLIGHT
TZOFFSETFROM:-0800
TZOFFSETTO:-0700
TZNAME:PDT
DTSTART:20200308T100000
END:DAYLIGHT
BEGIN:STANDARD
TZOFFSETFROM:-0700
TZOFFSETTO:-0800
TZNAME:PST
DTSTART:20201101T090000
END:STANDARD
END:VTIMEZONE
BEGIN:VEVENT
DTSTART;TZID=America/New_York:20200308T113000
DTEND;TZID=America/New_York:20200308T133000
DTSTAMP:20210612T215831
CREATED:20200218T141933Z
LAST-MODIFIED:20200218T141933Z
UID:807-1583667000-1583674200@www.poorpeoplescampaign.org
SUMMARY:Free Sneak Preview: "We Cried Power"
DESCRIPTION:Please join us for this free screening and discussion of the PPC’s new and inspiring documentary. Light refreshments will be available!!
URL:https://www.poorpeoplescampaign.org/event/free-sneak-preview-we-cried-power/
LOCATION:Pleasant Street United Methodist Church\, Waterville\, United States
CATEGORIES:Maine
END:VEVENT
BEGIN:VEVENT
DTSTART;TZID=America/Los_Angeles:20200308T140000
DTEND;TZID=America/Los_Angeles:20200308T153000
DTSTAMP:20210612T215831
CREATED:20200305T013210Z
LAST-MODIFIED:20210317T030449Z
UID:1087-1583676000-1583681400@www.poorpeoplescampaign.org
SUMMARY:Lynching in Montgomery County: A Reconciliation Tour
DESCRIPTION:Come to a free history program on the 3 known racial terror lynchings in MoCo. Visit the Montgomery County Lynching Memorial Project’s event page for more details. \n\n\n\n \n\n\n\n*This is not a Maryland PPC event.
URL:https://www.poorpeoplescampaign.org/event/lynching-mocomd/
LOCATION:Silver Spring Library\, 900 Wayne Ave\, Silver Spring\, MD\, 20910\, United States
CATEGORIES:Maryland
END:VEVENT
BEGIN:VEVENT
DTSTART;TZID=America/New_York:20200308T150000
DTEND;TZID=America/New_York:20200308T170000
DTSTAMP:20210612T215831
CREATED:20200212T213041Z
LAST-MODIFIED:20200302T180832Z
UID:774-1583679600-1583686800@www.poorpeoplescampaign.org
SUMMARY:Pittsburgh\, PA June 20\, 2020 Mobilization Meeting
DESCRIPTION:Throughout February and early March\, we are holding mobilization meetings in 16 major cities within 8-hour drives of Washington DC to bring together local folks\, including those connected to our national organizational partners\, labor unions\, faith bodies and denominations\, student/Greek organizations\, and others. \n\n\n\nThe Pittsburgh\, PA Mobilization Meeting will be held on Sunday\, March 8 at 3pm at the Center for Student Diversity and Inclusion\, Carnegie Mellon University (5032 Forbes Ave.\, Pittsburgh\, PA 15213 – lower level across from the bookstore). \n\n\n\nClick here to RSVP.
URL:https://www.poorpeoplescampaign.org/event/pittsburgh-june-20-2020-mobilization-meeting/
LOCATION:Center for Student Diversity and Inclusion\, Carnegie Mellon University\, 5032 Forbes Ave.\, Pittsburgh\, Pennsylvania\, 15213\, United States
CATEGORIES:National Events,Pennsylvania
ATTACH;FMTTYPE=image/jpeg:https://www.poorpeoplescampaign.org/wp-content/uploads/2019/12/home-links-bg.jpg
END:VEVENT
END:VCALENDAR