BEGIN:VCALENDAR
VERSION:2.0
PRODID:-//Poor People&#039;s Campaign - ECPv5.7.0//NONSGML v1.0//EN
CALSCALE:GREGORIAN
METHOD:PUBLISH
X-WR-CALNAME:Poor People&#039;s Campaign
X-ORIGINAL-URL:https://www.poorpeoplescampaign.org
X-WR-CALDESC:Events for Poor People&#039;s Campaign
BEGIN:VTIMEZONE
TZID:America/New_York
BEGIN:DAYLIGHT
TZOFFSETFROM:-0500
TZOFFSETTO:-0400
TZNAME:EDT
DTSTART:20200308T070000
END:DAYLIGHT
BEGIN:STANDARD
TZOFFSETFROM:-0400
TZOFFSETTO:-0500
TZNAME:EST
DTSTART:20201101T060000
END:STANDARD
TZID:America/Chicago
BEGIN:DAYLIGHT
TZOFFSETFROM:-0600
TZOFFSETTO:-0500
TZNAME:CDT
DTSTART:20200308T080000
END:DAYLIGHT
BEGIN:STANDARD
TZOFFSETFROM:-0500
TZOFFSETTO:-0600
TZNAME:CST
DTSTART:20201101T070000
END:STANDARD
END:VTIMEZONE
BEGIN:VEVENT
DTSTART;TZID=America/New_York:20200328T120000
DTEND;TZID=America/New_York:20200328T140000
DTSTAMP:20210625T021740
CREATED:20200326T230411Z
LAST-MODIFIED:20200528T223459Z
UID:1275-1585396800-1585404000@www.poorpeoplescampaign.org
SUMMARY:Prince George's County Meeting - Phone/Web
DESCRIPTION:General Meeting open to ALL! \n\n\n\n[Keep the last Saturday afternoon of each month penciled in for when we  announce a general meeting open to the public will be held.] \n\n\n\nCome join our movement of a National Call for Moral Revival!You may join by web or phone. \n\n\n\nPlease register with June2020.org by 6pm on the night before to ensure you receive an email with Zoom access information.
URL:https://www.poorpeoplescampaign.org/event/md-pg-meeting/2020-03-28/
CATEGORIES:Maryland
ORGANIZER;CN="Maryland%20Poor%20People%27s%20Campaign%20%28Prince%20George%27s%20County%29":MAILTO:pg@mdpoorpeoplescampaign.org
END:VEVENT
BEGIN:VEVENT
DTSTART;TZID=America/Chicago:20200328T140000
DTEND;TZID=America/Chicago:20200328T160000
DTSTAMP:20210625T021741
CREATED:20200309T102941Z
LAST-MODIFIED:20200320T120544Z
UID:1133-1585404000-1585411200@www.poorpeoplescampaign.org
SUMMARY:**CANCELLED**  Evanston IL-- Faith Leader Gathering
DESCRIPTION:We will be looking to reschedule this as an online gathering. In the mean time take care of yourself and each other.  \n\n\n\n**This location is wheelchair accessible **\n**There is onsite parking** \n\n\n\nWe are organizing interfaith leaders from all over Illinois to attend\n the June 20\, 2020 Mass Poor People’s Assembly and Moral March on \nWashington.\nJoin a broad-based\, joyful\, faith-rooted\, mass movement for voting \nrights and voter registration. We are addressing the interlocking \ninjustices of racism\, poverty\, the war economy\, environmental \ndevastation\, and the false moral narrative of religious nationalism. \n\n\n\nFind out more at https://illinoisppc.org\, to register with our statewide committee and make a reservation for 6.20.20!
URL:https://www.poorpeoplescampaign.org/event/evanston-il-faith-leader-gathering/
LOCATION:Beth Emet: The Free Synagogue\, 1224 Dempster\, Evanston\, United States
CATEGORIES:Illinois
ATTACH;FMTTYPE=image/jpeg:https://www.poorpeoplescampaign.org/wp-content/uploads/2020/03/Faith-Leader-Meeting_3.28.jpg
END:VEVENT
END:VCALENDAR