BEGIN:VCALENDAR
VERSION:2.0
PRODID:-//Poor People&#039;s Campaign - ECPv5.7.0//NONSGML v1.0//EN
CALSCALE:GREGORIAN
METHOD:PUBLISH
X-WR-CALNAME:Poor People&#039;s Campaign
X-ORIGINAL-URL:https://www.poorpeoplescampaign.org
X-WR-CALDESC:Events for Poor People&#039;s Campaign
BEGIN:VTIMEZONE
TZID:America/Los_Angeles
BEGIN:DAYLIGHT
TZOFFSETFROM:-0800
TZOFFSETTO:-0700
TZNAME:PDT
DTSTART:20200308T100000
END:DAYLIGHT
BEGIN:STANDARD
TZOFFSETFROM:-0700
TZOFFSETTO:-0800
TZNAME:PST
DTSTART:20201101T090000
END:STANDARD
END:VTIMEZONE
BEGIN:VEVENT
DTSTART;TZID=America/Los_Angeles:20200613T110000
DTEND;TZID=America/Los_Angeles:20200613T130000
DTSTAMP:20210625T021757
CREATED:20200609T151045Z
LAST-MODIFIED:20200609T151215Z
UID:1695-1592046000-1592053200@www.poorpeoplescampaign.org
SUMMARY:Poor People's Campaign 1968-2020: Everybody's Got A Right To Live! We Won't Be Silent Anymore
DESCRIPTION:In the context of the uprisings across the country against police killings of Black people and the devastation of COVID-19\, people will come together across movements at a virtual town hall entitled “Poor People’s Campaign 1968-2020: Everybody’s Got A Right to Live! We Won’t Be Silent Anymore”\, which will be held on Saturday\, June 13th at 11am Pacific time. \n\n\n\nRev. Liz Theoharis\, co-chair of the Poor People’s Campaign: A National Call for Moral Revival\, will be the keynote speaker. The town hall is part of the efforts of California PPC to expand the campaign in the state and build towards the Mass Poor People’s Assembly and Moral March on Washington on June 20\, 2020. \n\n\n\nThe program includes the Rev. Annie Chambers and others who participated in the first Poor People’s Campaign held in 1968 in Washington DC. Additionally\, those impacted by the pillars of the Poor People’s Campaign: A National Call for Moral Revival — racism\, poverty\, the war economy\, environmental devastation\, and the distorted moral narrative — will share their personal stories and how they and their communities are fighting back. Local Indigenous leaders will open the event\, and also speak about the on-going oppression and denial of rights for Indigenous peoples\, and what they are doing to resist. Music and poetry are part of the program. \n\n\n\nSpanish and ASL interpretation will be provided. \n\n\n\nClick here to RSVP to attend the virtual town hall.
URL:https://www.poorpeoplescampaign.org/event/poor-peoples-campaign-1968-2020-everybodys-got-a-right-to-live-we-wont-be-silent-anymore/
CATEGORIES:California
END:VEVENT
BEGIN:VEVENT
DTSTART;TZID=America/Los_Angeles:20200613T150000
DTEND;TZID=America/Los_Angeles:20200613T170000
DTSTAMP:20210625T021757
CREATED:20200613T172502Z
LAST-MODIFIED:20200613T172503Z
UID:1714-1592060400-1592067600@www.poorpeoplescampaign.org
SUMMARY:Bay Area Steering Committee Meeting
DESCRIPTION:Today\, the Poor People’s Campaign: A National Call for Moral Revival has picked up the unfinished work of Dr. Martin Luther King Jr’s 1968 Poor People’s Campaign. We are creating a new fusion politics to change the moral narrative of the country. \n\n\n\nFrom Alaska to Arkansas\, the Bronx to the border\, people are coming together to confront the interlocking evils of systemic racism\, poverty\, ecological devastation\, militarism and the war economy\, and the distorted moral narrative of religious nationalism. We understand that as a nation we are at a critical juncture — that we need a movement that will shift the moral narrative\, impact policies and elections at every level of government\, and build lasting power for poor and impacted people. \n\n\n\nPlease join us and the movement as we build towards a Mass Assembly and March on Washington\, June 20\, 2020. We welcome your participation at the next Steering Committee meeting of the Poor People’s Campaign Bay Area Supporters on Saturday\, June 13th\, 3:00 pm over Zoom. You can join the meeting here: https://us02web.zoom.us/j/87929768921
URL:https://www.poorpeoplescampaign.org/event/bay-area-steering-committee-meeting-3/
CATEGORIES:California
END:VEVENT
END:VCALENDAR