BEGIN:VCALENDAR
VERSION:2.0
PRODID:-//Poor People&#039;s Campaign - ECPv5.7.0//NONSGML v1.0//EN
CALSCALE:GREGORIAN
METHOD:PUBLISH
X-WR-CALNAME:Poor People&#039;s Campaign
X-ORIGINAL-URL:https://www.poorpeoplescampaign.org
X-WR-CALDESC:Events for Poor People&#039;s Campaign
BEGIN:VTIMEZONE
TZID:America/Los_Angeles
BEGIN:DAYLIGHT
TZOFFSETFROM:-0800
TZOFFSETTO:-0700
TZNAME:PDT
DTSTART:20200308T100000
END:DAYLIGHT
BEGIN:STANDARD
TZOFFSETFROM:-0700
TZOFFSETTO:-0800
TZNAME:PST
DTSTART:20201101T090000
END:STANDARD
END:VTIMEZONE
BEGIN:VEVENT
DTSTART;TZID=America/Los_Angeles:20200719T140000
DTEND;TZID=America/Los_Angeles:20200719T153000
DTSTAMP:20210625T021815
CREATED:20200722T202718Z
LAST-MODIFIED:20200722T203247Z
UID:1985-1595167200-1595172600@www.poorpeoplescampaign.org
SUMMARY:Los Angeles Regional Open House
DESCRIPTION:Today\, the Poor People’s Campaign: A National Call for Moral Revival has picked up the unfinished work of Dr. Martin Luther King Jr’s 1968 Poor People’s Campaign. We are creating a new fusion politics to change the moral narrative of the country. \n\n\n\nFrom Alaska to Arkansas\, the Bronx to the border\, people are coming together to confront the interlocking evils of systemic racism\, poverty\, ecological devastation\, militarism and the war economy\, and the distorted moral narrative of religious nationalism. We understand that as a nation we are at a critical juncture — that we need a movement that will shift the moral narrative\, impact policies and elections at every level of government\, and build lasting power for poor and impacted people. \n\n\n\nPlease join us and the movement as we build towards a society with justice for all. We welcome your participation at the virtual Los Angeles Regional Open House of the California Poor People’s Campaign Los Angeles chapter on Sunday\, July 19th\, 2:00 pm over Zoom. You can join the meeting here: https://zoom.us/meeting/register/tJIsfu-tpz8oEtF30eJMp8HP5HsGdsG8XcjL
URL:https://www.poorpeoplescampaign.org/event/los-angeles-regional-open-house/
CATEGORIES:California
END:VEVENT
END:VCALENDAR