BEGIN:VCALENDAR
VERSION:2.0
PRODID:-//Poor People&#039;s Campaign - ECPv5.7.0//NONSGML v1.0//EN
CALSCALE:GREGORIAN
METHOD:PUBLISH
X-WR-CALNAME:Poor People&#039;s Campaign
X-ORIGINAL-URL:https://www.poorpeoplescampaign.org
X-WR-CALDESC:Events for Poor People&#039;s Campaign
BEGIN:VTIMEZONE
TZID:America/New_York
BEGIN:DAYLIGHT
TZOFFSETFROM:-0500
TZOFFSETTO:-0400
TZNAME:EDT
DTSTART:20200308T070000
END:DAYLIGHT
BEGIN:STANDARD
TZOFFSETFROM:-0400
TZOFFSETTO:-0500
TZNAME:EST
DTSTART:20201101T060000
END:STANDARD
END:VTIMEZONE
BEGIN:VEVENT
DTSTART;TZID=America/New_York:20200923T190000
DTEND;TZID=America/New_York:20200923T200000
DTSTAMP:20210603T183341
CREATED:20200416T191451Z
LAST-MODIFIED:20200416T191451Z
UID:2068-1600887600-1600891200@www.poorpeoplescampaign.org
SUMMARY:(OH) Ohio Weekly Check In\, Connect and Commune
DESCRIPTION:In response to the current health crisis we are all facing\, we have decided to offer a place for everyone to check in  with each other\, connect with each other and  commune with love for each other. By showing compassion for each other’s circumstances\, lifting each other up\, providing a space to share our challenges and provide a space to release\, we can broaden our relationships and connections to each other across the state and build community as well as relieve the effects of isolation. \n\n\n\nRegister to receive the zoom information by filling out the form bit.ly/WeeklyConnection and the zoom info will be sent to you for each call. You may join by computer or by phone. If you need support connecting please let us know by filing out the form. Sending you peace\, love and light during this difficult time. If one of us suffers\, we all suffer. We are One Forward Together\, Not One Step Back!
URL:https://www.poorpeoplescampaign.org/event/oh-ohio-weekly-check-in-connect-and-commune/2020-09-23/
CATEGORIES:Ohio,State Poor People's Campaign Events
END:VEVENT
END:VCALENDAR