BEGIN:VCALENDAR
VERSION:2.0
PRODID:-//Poor People&#039;s Campaign - ECPv5.7.0//NONSGML v1.0//EN
CALSCALE:GREGORIAN
METHOD:PUBLISH
X-WR-CALNAME:Poor People&#039;s Campaign
X-ORIGINAL-URL:https://www.poorpeoplescampaign.org
X-WR-CALDESC:Events for Poor People&#039;s Campaign
BEGIN:VTIMEZONE
TZID:America/Chicago
BEGIN:DAYLIGHT
TZOFFSETFROM:-0600
TZOFFSETTO:-0500
TZNAME:CDT
DTSTART:20200308T080000
END:DAYLIGHT
BEGIN:STANDARD
TZOFFSETFROM:-0500
TZOFFSETTO:-0600
TZNAME:CST
DTSTART:20201101T070000
END:STANDARD
END:VTIMEZONE
BEGIN:VEVENT
DTSTART;TZID=America/Chicago:20201016T130000
DTEND;TZID=America/Chicago:20201016T140000
DTSTAMP:20210603T183446
CREATED:20200901T204621Z
LAST-MODIFIED:20200901T213025Z
UID:2352-1602853200-1602856800@www.poorpeoplescampaign.org
SUMMARY:(IL) Chicago Westside Planning Meeting
DESCRIPTION:At this online meeting\, we will be planning future events including voter registration and census.For more information or to find out how you can participate\, email us at info@illinoisppc.org
URL:https://www.poorpeoplescampaign.org/event/il-chicago-westside-planning-meeting/2020-10-16/
CATEGORIES:Illinois
END:VEVENT
END:VCALENDAR