BEGIN:VCALENDAR
VERSION:2.0
PRODID:-//Poor People&#039;s Campaign - ECPv5.7.0//NONSGML v1.0//EN
CALSCALE:GREGORIAN
METHOD:PUBLISH
X-WR-CALNAME:Poor People&#039;s Campaign
X-ORIGINAL-URL:https://www.poorpeoplescampaign.org
X-WR-CALDESC:Events for Poor People&#039;s Campaign
BEGIN:VTIMEZONE
TZID:America/Denver
BEGIN:DAYLIGHT
TZOFFSETFROM:-0700
TZOFFSETTO:-0600
TZNAME:MDT
DTSTART:20200308T090000
END:DAYLIGHT
BEGIN:STANDARD
TZOFFSETFROM:-0600
TZOFFSETTO:-0700
TZNAME:MST
DTSTART:20201101T080000
END:STANDARD
TZID:America/New_York
BEGIN:DAYLIGHT
TZOFFSETFROM:-0500
TZOFFSETTO:-0400
TZNAME:EDT
DTSTART:20200308T070000
END:DAYLIGHT
BEGIN:STANDARD
TZOFFSETFROM:-0400
TZOFFSETTO:-0500
TZNAME:EST
DTSTART:20201101T060000
END:STANDARD
END:VTIMEZONE
BEGIN:VEVENT
DTSTART;TZID=America/Denver:20201109T190000
DTEND;TZID=America/Denver:20201109T200000
DTSTAMP:20210625T021848
CREATED:20200702T153015Z
LAST-MODIFIED:20200702T153015Z
UID:1906-1604948400-1604952000@www.poorpeoplescampaign.org
SUMMARY:Colorado Poor People's Campaign Statewide Meeting
DESCRIPTION:Join the Colorado Poor People’s Campaign: A National Call for Moral Revival for our weekly statewide meeting! \n\n\n\nClick here to join via Zoom.
URL:https://www.poorpeoplescampaign.org/event/colorado-poor-peoples-campaign-statewide-meeting/2020-11-09/
CATEGORIES:Colorado
END:VEVENT
BEGIN:VEVENT
DTSTART;TZID=America/New_York:20201109T203000
DTEND;TZID=America/New_York:20201109T210000
DTSTAMP:20210625T021848
CREATED:20200903T131642Z
LAST-MODIFIED:20200903T132555Z
UID:2427-1604953800-1604955600@www.poorpeoplescampaign.org
SUMMARY:OHPPC Phone Bank Training
DESCRIPTION:Sign up to do outreach to OHPPC members in your region. https://bit.ly/PhoneBankOHPPC
URL:https://www.poorpeoplescampaign.org/event/ohppc-phone-bank-training-2/2020-11-09/
CATEGORIES:Ohio,State Poor People's Campaign Events
END:VEVENT
END:VCALENDAR