BEGIN:VCALENDAR
VERSION:2.0
PRODID:-//Poor People&#039;s Campaign - ECPv5.5.0.1//NONSGML v1.0//EN
CALSCALE:GREGORIAN
METHOD:PUBLISH
X-WR-CALNAME:Poor People&#039;s Campaign
X-ORIGINAL-URL:https://www.poorpeoplescampaign.org
X-WR-CALDESC:Events for Poor People&#039;s Campaign
BEGIN:VTIMEZONE
TZID:America/New_York
BEGIN:DAYLIGHT
TZOFFSETFROM:-0500
TZOFFSETTO:-0400
TZNAME:EDT
DTSTART:20210314T070000
END:DAYLIGHT
BEGIN:STANDARD
TZOFFSETFROM:-0400
TZOFFSETTO:-0500
TZNAME:EST
DTSTART:20211107T060000
END:STANDARD
END:VTIMEZONE
BEGIN:VEVENT
DTSTART;TZID=America/New_York:20210120T190000
DTEND;TZID=America/New_York:20210120T203000
DTSTAMP:20210523T225956
CREATED:20210109T221131Z
LAST-MODIFIED:20210117T215947Z
UID:3151-1611169200-1611174600@www.poorpeoplescampaign.org
SUMMARY:Inaugural Song Brew by MD PPC Theomusicology & Movement Arts
DESCRIPTION:Come one\, come all!\n\n\n\n\n\n\n\nJoin us for an interactive night to create music & movement arts with fellow social justice activists. \n\n\n\nThe Maryland Poor People’s Campaign will be holding its “inaugural” song brew online on Wednesday\, January 20th at 7pm. \n\n\n\nWhat is a song brew? \n\n\n\nA song brew is a virtual gathering where artists (and artists yet-to-be) of all mediums – not just singers and musicians – come together to create song and reflect on issues facing us today. \n\n\n\nImpending – and some already occurring – evictions and foreclosures are of major concern in Maryland. As such\, we would like the theme of this song brew to be on housing issues.We ask that you come prepared with a couple lines of lyrics or spoken word; or perhaps an original beat or riff; or for those who are pictorial artists\, some pencils or paints or such. We will attempt to put together what we bring\, along with improv\, into a new tune\, orchestrated by our Songleaders! \n\n\n\nHere is a nice document on blending music & social justice:HARMONIZING ORGANIZING_PMN 201 – Google Docs \n\n\n\nIf you want to read some data on housing so as to zero in on what content you create\, here are a couple resources: \n\n\n\nThe COVID-19 Eviction CrisisCOVID-19 Housing Policy Scorecard (scroll down the site to DC or MD)\n\n\n\nRemember\, this is for all artists… and even those who have not yet become artists! \n\n\n\nWe hope to see you there! \n\n\n\nSincerely\,Maryland Poor People’s Campaign Theomusicology & Movement Arts (TMA)
URL:https://www.poorpeoplescampaign.org/event/song-brew-md-ppc-tma-012021/
CATEGORIES:Maryland
ATTACH;FMTTYPE=image/png:https://www.poorpeoplescampaign.org/wp-content/uploads/2021/01/MD-PPC-TMA-Zoom-Image1.png
ORGANIZER;CN="Maryland%20Poor%20People%27s%20Campaign%20%28Statewide%29":MAILTO:maryland@poorpeoplescampaign.org
END:VEVENT
END:VCALENDAR